BEGIN:VCALENDAR
VERSION:2.0
PRODID:-//Silver Springs Community Association - ECPv6.15.20//NONSGML v1.0//EN
CALSCALE:GREGORIAN
METHOD:PUBLISH
X-ORIGINAL-URL:https://silverspringscommunity.ca
X-WR-CALDESC:Events for Silver Springs Community Association
REFRESH-INTERVAL;VALUE=DURATION:PT1H
X-Robots-Tag:noindex
X-PUBLISHED-TTL:PT1H
BEGIN:VTIMEZONE
TZID:America/Edmonton
BEGIN:DAYLIGHT
TZOFFSETFROM:-0700
TZOFFSETTO:-0600
TZNAME:MDT
DTSTART:20240310T090000
END:DAYLIGHT
BEGIN:STANDARD
TZOFFSETFROM:-0600
TZOFFSETTO:-0700
TZNAME:MST
DTSTART:20241103T080000
END:STANDARD
BEGIN:DAYLIGHT
TZOFFSETFROM:-0700
TZOFFSETTO:-0600
TZNAME:MDT
DTSTART:20250309T090000
END:DAYLIGHT
BEGIN:STANDARD
TZOFFSETFROM:-0600
TZOFFSETTO:-0700
TZNAME:MST
DTSTART:20251102T080000
END:STANDARD
BEGIN:DAYLIGHT
TZOFFSETFROM:-0700
TZOFFSETTO:-0600
TZNAME:MDT
DTSTART:20260308T090000
END:DAYLIGHT
BEGIN:STANDARD
TZOFFSETFROM:-0600
TZOFFSETTO:-0700
TZNAME:MST
DTSTART:20261101T080000
END:STANDARD
END:VTIMEZONE
BEGIN:VEVENT
DTSTART;TZID=America/Edmonton:20251107T190000
DTEND;TZID=America/Edmonton:20251107T210000
DTSTAMP:20260424T004545
CREATED:20250909T205904Z
LAST-MODIFIED:20250924T193516Z
UID:19948-1762542000-1762549200@silverspringscommunity.ca
SUMMARY:Senior's Group: Beginner Line Dance
DESCRIPTION:Beginner Line Dance | Fri Nov 7 from 7-9pm \nJoin us for a Beginner Line Dance Class with our own instructor at the SSCA! \n\nCome prepared to dance for the 2 hours (with water breaks)\nBring your own water and CLEAN comfortable shoes\nNo experience necessary\n\n$10 per person \nRegistration opens Tue\, Oct 14 at 9AM
URL:https://silverspringscommunity.ca/event/beginner-line-dance/
LOCATION:AB
ATTACH;FMTTYPE=image/jpeg:https://silverspringscommunity.ca/wp-content/uploads/2025/09/Seniors-Line-Dance-11-x-8.5-in.jpeg
END:VEVENT
BEGIN:VEVENT
DTSTART;TZID=America/Edmonton:20251115T100000
DTEND;TZID=America/Edmonton:20251115T150000
DTSTAMP:20260424T004545
CREATED:20250709T175359Z
LAST-MODIFIED:20250909T211044Z
UID:19782-1763200800-1763218800@silverspringscommunity.ca
SUMMARY:Christmas Craft Market
DESCRIPTION:Our Craft Market is Returning This Fall! \nWe’re excited to welcome back vendors and shoppers for another amazing season.
URL:https://silverspringscommunity.ca/event/christmas-craft-market-vendor-applications/
LOCATION:AB
ATTACH;FMTTYPE=image/png:https://silverspringscommunity.ca/wp-content/uploads/2025/07/Silver-Springs-Craft-Market.png
END:VEVENT
BEGIN:VEVENT
DTSTART;TZID=America/Edmonton:20251118T190000
DTEND;TZID=America/Edmonton:20251118T210000
DTSTAMP:20260424T004545
CREATED:20251002T201906Z
LAST-MODIFIED:20251002T201906Z
UID:20036-1763492400-1763499600@silverspringscommunity.ca
SUMMARY:Frauds and Scams Awareness Presentation
DESCRIPTION:Join us in the SSCA Sunset Room for a Frauds and Scams Awareness Presentation. This is a free event.
URL:https://silverspringscommunity.ca/event/frauds-and-scams-awareness-presentation/
LOCATION:AB
ATTACH;FMTTYPE=image/png:https://silverspringscommunity.ca/wp-content/uploads/2025/10/Scam-Prevention-Night.png
END:VEVENT
END:VCALENDAR