BEGIN:VCALENDAR
VERSION:2.0
PRODID:-//Silver Springs Community Association - ECPv6.15.20//NONSGML v1.0//EN
CALSCALE:GREGORIAN
METHOD:PUBLISH
X-WR-CALNAME:Silver Springs Community Association
X-ORIGINAL-URL:https://silverspringscommunity.ca
X-WR-CALDESC:Events for Silver Springs Community Association
REFRESH-INTERVAL;VALUE=DURATION:PT1H
X-Robots-Tag:noindex
X-PUBLISHED-TTL:PT1H
BEGIN:VTIMEZONE
TZID:America/Edmonton
BEGIN:DAYLIGHT
TZOFFSETFROM:-0700
TZOFFSETTO:-0600
TZNAME:MDT
DTSTART:20240310T090000
END:DAYLIGHT
BEGIN:STANDARD
TZOFFSETFROM:-0600
TZOFFSETTO:-0700
TZNAME:MST
DTSTART:20241103T080000
END:STANDARD
BEGIN:DAYLIGHT
TZOFFSETFROM:-0700
TZOFFSETTO:-0600
TZNAME:MDT
DTSTART:20250309T090000
END:DAYLIGHT
BEGIN:STANDARD
TZOFFSETFROM:-0600
TZOFFSETTO:-0700
TZNAME:MST
DTSTART:20251102T080000
END:STANDARD
BEGIN:DAYLIGHT
TZOFFSETFROM:-0700
TZOFFSETTO:-0600
TZNAME:MDT
DTSTART:20260308T090000
END:DAYLIGHT
BEGIN:STANDARD
TZOFFSETFROM:-0600
TZOFFSETTO:-0700
TZNAME:MST
DTSTART:20261101T080000
END:STANDARD
END:VTIMEZONE
BEGIN:VEVENT
DTSTART;TZID=America/Edmonton:20250719T104500
DTEND;TZID=America/Edmonton:20250719T104500
DTSTAMP:20260423T112259
CREATED:20250529T181407Z
LAST-MODIFIED:20250529T183945Z
UID:19584-1752921900-1752921900@silverspringscommunity.ca
SUMMARY:Senior's Pool Party
DESCRIPTION:Senior’s Pool Party | Sat. Jul 19 \nWe will be swimming from 10:45 – 11:45. Pizza Party to follow at the pump track. \n$10 per person includes swimming and pizza. Maximum 40 registrants\, with a waitlist. \nRegistration opens on Tues\, June 10 at 9:00AM.  \n 
URL:https://silverspringscommunity.ca/event/seniors-pool-party/
LOCATION:AB
ATTACH;FMTTYPE=image/png:https://silverspringscommunity.ca/wp-content/uploads/2025/05/Seniors-Pool-Party.png
END:VEVENT
END:VCALENDAR