BEGIN:VCALENDAR
VERSION:2.0
PRODID:-//Silver Springs Community Association - ECPv6.15.20//NONSGML v1.0//EN
CALSCALE:GREGORIAN
METHOD:PUBLISH
X-WR-CALNAME:Silver Springs Community Association
X-ORIGINAL-URL:https://silverspringscommunity.ca
X-WR-CALDESC:Events for Silver Springs Community Association
REFRESH-INTERVAL;VALUE=DURATION:PT1H
X-Robots-Tag:noindex
X-PUBLISHED-TTL:PT1H
BEGIN:VTIMEZONE
TZID:America/Edmonton
BEGIN:DAYLIGHT
TZOFFSETFROM:-0700
TZOFFSETTO:-0600
TZNAME:MDT
DTSTART:20240310T090000
END:DAYLIGHT
BEGIN:STANDARD
TZOFFSETFROM:-0600
TZOFFSETTO:-0700
TZNAME:MST
DTSTART:20241103T080000
END:STANDARD
BEGIN:DAYLIGHT
TZOFFSETFROM:-0700
TZOFFSETTO:-0600
TZNAME:MDT
DTSTART:20250309T090000
END:DAYLIGHT
BEGIN:STANDARD
TZOFFSETFROM:-0600
TZOFFSETTO:-0700
TZNAME:MST
DTSTART:20251102T080000
END:STANDARD
BEGIN:DAYLIGHT
TZOFFSETFROM:-0700
TZOFFSETTO:-0600
TZNAME:MDT
DTSTART:20260308T090000
END:DAYLIGHT
BEGIN:STANDARD
TZOFFSETFROM:-0600
TZOFFSETTO:-0700
TZNAME:MST
DTSTART:20261101T080000
END:STANDARD
END:VTIMEZONE
BEGIN:VEVENT
DTSTART;TZID=America/Edmonton:20250405T080000
DTEND;TZID=America/Edmonton:20250406T170000
DTSTAMP:20260423T112313
CREATED:20250110T234927Z
LAST-MODIFIED:20250220T210504Z
UID:18388-1743840000-1743958800@silverspringscommunity.ca
SUMMARY:
DESCRIPTION:Casino Volunteers – April 5th and April 6th\, 2025\n\n\n\n\n\n\n\n\n\n\nThe Silver Springs Community Association will participate in a fundraiser casino on Saturday\, April 5 & Sunday\, April 6\, 2025. It will be held at Elbow River Casino (218 18 Ave SE). Money raised from the casino provides one of the largest sources of revenue towards our building expansion! \n\n\n\n\n\n\nPlease consider volunteering for our biggest fundraising event of the year! No previous experience needed and all volunteers will receive a complimentary meal. We have day and evening shifts available.  If you have any questions please contact us at administration@silverspringscommunity.ca
URL:https://silverspringscommunity.ca/event/18388/
LOCATION:AB
ATTACH;FMTTYPE=image/png:https://silverspringscommunity.ca/wp-content/uploads/2025/01/Casino-1.png
ORGANIZER;CN="SILVER SPRINGS COMMUNITY ASSOCIATION":MAILTO:programs@silverspringscommunity.ca
END:VEVENT
BEGIN:VEVENT
DTSTART;TZID=America/Edmonton:20250405T100000
DTEND;TZID=America/Edmonton:20250405T150000
DTSTAMP:20260423T112313
CREATED:20250303T181722Z
LAST-MODIFIED:20250303T181722Z
UID:18902-1743847200-1743865200@silverspringscommunity.ca
SUMMARY:Bow West Artists - Annual Show & Sale
DESCRIPTION:Join us on Saturday\, April 5th from 10am – 3pm for the 30th Annual Show and Sale. \nSilver Springs Community Centre \n5720 Silver Ridge Drive
URL:https://silverspringscommunity.ca/event/bow-west-artists-annual-show-sale/
LOCATION:AB
ATTACH;FMTTYPE=image/jpeg:https://silverspringscommunity.ca/wp-content/uploads/2025/02/2025-invitation-final-version.jpg
END:VEVENT
BEGIN:VEVENT
DTSTART;TZID=America/Edmonton:20250416T193000
DTEND;TZID=America/Edmonton:20250416T210000
DTSTAMP:20260423T112313
CREATED:20250130T213948Z
LAST-MODIFIED:20250130T214249Z
UID:18609-1744831800-1744837200@silverspringscommunity.ca
SUMMARY:Speaker Presentation – ‘Companion Planting’ with Jennifer Hoglin
DESCRIPTION:Speaker Presentation – ‘Companion Planting’ with Jennifer Hoglin \nApril 16 2025 \nCost: $ 15 \nAll presentations will be held in the Board Room in the Silver Springs Community Centre.\nTalks start at 7:30 pm / $15 per presentation or $50 if registering for all 4 talks at the same\ntime.
URL:https://silverspringscommunity.ca/event/speaker-presentation-companion-planting-with-jennifer-hoglin/
LOCATION:AB
ATTACH;FMTTYPE=image/jpeg:https://silverspringscommunity.ca/wp-content/uploads/2025/01/Edible-Garden.jpg
END:VEVENT
BEGIN:VEVENT
DTSTART;TZID=America/Edmonton:20250425T190000
DTEND;TZID=America/Edmonton:20250425T210000
DTSTAMP:20260423T112313
CREATED:20250317T193426Z
LAST-MODIFIED:20250317T193426Z
UID:18942-1745607600-1745614800@silverspringscommunity.ca
SUMMARY:Active Seniors - Beginner Line Dancing
DESCRIPTION:Beginner Line Dance Class with our own instructor! \nCome prepared to dance for the 2 hours (with water breaks) \nNo experience necessary \nBring your own water and CLEAN comfortable shoes. \nFri April 25\, 2025 from 7:00 PM – 9:00 PM \nSSCA Sunset Room \n$10 per person. \nRegistration opens on Wed\, April 2 at 9:00AM. 
URL:https://silverspringscommunity.ca/event/active-seniors-beginner-line-dancing/
LOCATION:AB
ATTACH;FMTTYPE=image/png:https://silverspringscommunity.ca/wp-content/uploads/2025/03/Seniors-Line-Dance.png
END:VEVENT
END:VCALENDAR