BEGIN:VCALENDAR
VERSION:2.0
PRODID:-//Silver Springs Community Association - ECPv6.15.20//NONSGML v1.0//EN
CALSCALE:GREGORIAN
METHOD:PUBLISH
X-ORIGINAL-URL:https://silverspringscommunity.ca
X-WR-CALDESC:Events for Silver Springs Community Association
REFRESH-INTERVAL;VALUE=DURATION:PT1H
X-Robots-Tag:noindex
X-PUBLISHED-TTL:PT1H
BEGIN:VTIMEZONE
TZID:America/Edmonton
BEGIN:DAYLIGHT
TZOFFSETFROM:-0700
TZOFFSETTO:-0600
TZNAME:MDT
DTSTART:20240310T090000
END:DAYLIGHT
BEGIN:STANDARD
TZOFFSETFROM:-0600
TZOFFSETTO:-0700
TZNAME:MST
DTSTART:20241103T080000
END:STANDARD
BEGIN:DAYLIGHT
TZOFFSETFROM:-0700
TZOFFSETTO:-0600
TZNAME:MDT
DTSTART:20250309T090000
END:DAYLIGHT
BEGIN:STANDARD
TZOFFSETFROM:-0600
TZOFFSETTO:-0700
TZNAME:MST
DTSTART:20251102T080000
END:STANDARD
BEGIN:DAYLIGHT
TZOFFSETFROM:-0700
TZOFFSETTO:-0600
TZNAME:MDT
DTSTART:20260308T090000
END:DAYLIGHT
BEGIN:STANDARD
TZOFFSETFROM:-0600
TZOFFSETTO:-0700
TZNAME:MST
DTSTART:20261101T080000
END:STANDARD
END:VTIMEZONE
BEGIN:VEVENT
DTSTART;TZID=America/Edmonton:20250205T090000
DTEND;TZID=America/Edmonton:20250315T170000
DTSTAMP:20260424T141032
CREATED:20241228T205616Z
LAST-MODIFIED:20250205T153617Z
UID:18164-1738746000-1742058000@silverspringscommunity.ca
SUMMARY:Silver Springs Soccer Registration
DESCRIPTION:Save the date! \nRegistration will open February 5th 2025 at 9:00am! \nFull details can be found here.
URL:https://silverspringscommunity.ca/event/silver-springs-soccer-registration-2/
LOCATION:AB
ATTACH;FMTTYPE=image/jpeg:https://silverspringscommunity.ca/wp-content/uploads/2022/02/soccer-drills.jpg
END:VEVENT
BEGIN:VEVENT
DTSTART;TZID=America/Edmonton:20250307T190000
DTEND;TZID=America/Edmonton:20250307T200000
DTSTAMP:20260424T141032
CREATED:20250212T181103Z
LAST-MODIFIED:20250221T174351Z
UID:18766-1741374000-1741377600@silverspringscommunity.ca
SUMMARY:Dancing in the Dark | Friday\, March 7
DESCRIPTION:Dancing in the Dark \nFri March 7\, 2025 from 7:00 PM – 8:00 PM \nSSCA Common Room (Downstairs) \n$5 per person. No refunds. \nRegistration opens on Wednesday\, February 19 at 9:00AM.  \n \n  \n 
URL:https://silverspringscommunity.ca/event/dancing-in-the-dark-friday-march-7/
LOCATION:AB
ATTACH;FMTTYPE=image/png:https://silverspringscommunity.ca/wp-content/uploads/2025/02/Dancing-in-the-Dark.png
END:VEVENT
BEGIN:VEVENT
DTSTART;TZID=America/Edmonton:20250319T193000
DTEND;TZID=America/Edmonton:20250319T210000
DTSTAMP:20260424T141032
CREATED:20250130T214223Z
LAST-MODIFIED:20250130T214701Z
UID:18612-1742412600-1742418000@silverspringscommunity.ca
SUMMARY:Speaker Presentation – ‘Gardening For Pollinators’ with Jennifer Hoglin
DESCRIPTION:Speaker Presentation – ‘Gardening For Pollinators’ with Jennifer Hoglin \nMarch 19 2025 \nCost: $ 15 \nAll presentations will be held in the Board Room in the Silver Springs Community Centre.\nTalks start at 7:30 pm / $15 per presentation or $50 if registering for all 4 talks at the same\ntime.
URL:https://silverspringscommunity.ca/event/speaker-presentation-gardening-for-pollinators-with-jennifer-hoglin/
LOCATION:AB
ATTACH;FMTTYPE=image/jpeg:https://silverspringscommunity.ca/wp-content/uploads/2025/01/Edible-Garden.jpg
END:VEVENT
BEGIN:VEVENT
DTSTART;TZID=America/Edmonton:20250322T120000
DTEND;TZID=America/Edmonton:20250322T150000
DTSTAMP:20260424T141032
CREATED:20250116T224218Z
LAST-MODIFIED:20250220T210556Z
UID:18502-1742644800-1742655600@silverspringscommunity.ca
SUMMARY:LEGO Competition
DESCRIPTION:Our 19th annual LEGO competition will be on March 22nd 2025 here at the SSCA. Entries will be $5 each. Registration will open February 1st 2025. \n \n\n\n\nAge Groups: 2- 7 years (DUPLO allowed) 8 – 12 years 13 – 17 years 18+years \n  \n\n\n\nCategories: Things that Go Structures Cool Scenes Outer Space \n  \n\n\n\nSet up: Fri\, March 21st\, 6:00–8:00 pm Judging: Sat. March 22nd at 10:00 – noon (adult entries will be judged by popular vote) Public Viewing: 12:00 – 3:00 pm Awards: Prize winner names will be posted for public viewing. Prizes and entries may be picked up between 3pm – 3:30pm on March 22nd 2025 \n  \n\n\n\nRules: \n\n\n\nMake sure you enter into the correct age group! No kits please! All entries must be original creations. Maximum of 3 entries per person at a fee of $5.00 per entry (to cover cost of prizes) 1st\, 2nd\, and 3rd prize ribbons will receive a price Adult entries will be judged based on popular vote Judging will take place by our local volunteers – late entries will not be judged! \n  \n\n\n\nWe love volunteers and sponsors! Please email administration@silverspringscommunity.ca \n\n\n\n 
URL:https://silverspringscommunity.ca/event/lego/
LOCATION:Silver Springs Community Center\, 5720 Silver Ridge Drive NW\, Calgary\, AB\, T3B 5E5\, Canada
ATTACH;FMTTYPE=image/png:https://silverspringscommunity.ca/wp-content/uploads/2025/01/LEGO-2025.png
ORGANIZER;CN="SILVER SPRINGS COMMUNITY ASSOCIATION":MAILTO:programs@silverspringscommunity.ca
END:VEVENT
BEGIN:VEVENT
DTSTART;TZID=America/Edmonton:20250331T120000
DTEND;TZID=America/Edmonton:20250331T120000
DTSTAMP:20260424T141032
CREATED:20250312T171700Z
LAST-MODIFIED:20250312T172448Z
UID:18937-1743422400-1743422400@silverspringscommunity.ca
SUMMARY:Wellings of Calgary Facility Tour
DESCRIPTION:Monday\, March 31 at 12:00 noon. \nJoin us for a facility tour and lunch at Wellings of Calgary in Trinity Hills. \nThis is a free event that will take place at Wellings of Calgary.
URL:https://silverspringscommunity.ca/event/wellings-of-calgary-facility-tour/
LOCATION:AB
ATTACH;FMTTYPE=image/png:https://silverspringscommunity.ca/wp-content/uploads/2025/03/Screenshot-2025-03-11-101557.png
END:VEVENT
END:VCALENDAR