BEGIN:VCALENDAR
VERSION:2.0
PRODID:-//Silver Springs Community Association - ECPv6.15.20//NONSGML v1.0//EN
CALSCALE:GREGORIAN
METHOD:PUBLISH
X-WR-CALNAME:Silver Springs Community Association
X-ORIGINAL-URL:https://silverspringscommunity.ca
X-WR-CALDESC:Events for Silver Springs Community Association
REFRESH-INTERVAL;VALUE=DURATION:PT1H
X-Robots-Tag:noindex
X-PUBLISHED-TTL:PT1H
BEGIN:VTIMEZONE
TZID:America/Edmonton
BEGIN:DAYLIGHT
TZOFFSETFROM:-0700
TZOFFSETTO:-0600
TZNAME:MDT
DTSTART:20240310T090000
END:DAYLIGHT
BEGIN:STANDARD
TZOFFSETFROM:-0600
TZOFFSETTO:-0700
TZNAME:MST
DTSTART:20241103T080000
END:STANDARD
BEGIN:DAYLIGHT
TZOFFSETFROM:-0700
TZOFFSETTO:-0600
TZNAME:MDT
DTSTART:20250309T090000
END:DAYLIGHT
BEGIN:STANDARD
TZOFFSETFROM:-0600
TZOFFSETTO:-0700
TZNAME:MST
DTSTART:20251102T080000
END:STANDARD
BEGIN:DAYLIGHT
TZOFFSETFROM:-0700
TZOFFSETTO:-0600
TZNAME:MDT
DTSTART:20260308T090000
END:DAYLIGHT
BEGIN:STANDARD
TZOFFSETFROM:-0600
TZOFFSETTO:-0700
TZNAME:MST
DTSTART:20261101T080000
END:STANDARD
END:VTIMEZONE
BEGIN:VEVENT
DTSTART;TZID=America/Edmonton:20250205T090000
DTEND;TZID=America/Edmonton:20250315T170000
DTSTAMP:20260424T155305
CREATED:20241228T205616Z
LAST-MODIFIED:20250205T153617Z
UID:18164-1738746000-1742058000@silverspringscommunity.ca
SUMMARY:Silver Springs Soccer Registration
DESCRIPTION:Save the date! \nRegistration will open February 5th 2025 at 9:00am! \nFull details can be found here.
URL:https://silverspringscommunity.ca/event/silver-springs-soccer-registration-2/
LOCATION:AB
ATTACH;FMTTYPE=image/jpeg:https://silverspringscommunity.ca/wp-content/uploads/2022/02/soccer-drills.jpg
END:VEVENT
BEGIN:VEVENT
DTSTART;TZID=America/Edmonton:20250212T183000
DTEND;TZID=America/Edmonton:20250212T193000
DTSTAMP:20260424T155305
CREATED:20250116T231507Z
LAST-MODIFIED:20250120T210842Z
UID:18506-1739385000-1739388600@silverspringscommunity.ca
SUMMARY:Try Softball! With West Valley Softball
DESCRIPTION:West Valley – Try Softball Day\nDate: Wednesday\, February 12\, 2025\nTime: 6:30 PM – 7:30 PM\nLocation: TB Riley Junior High\, 3915 69 St NW \nIf your child is new to softball or has limited experience\, this is the perfect opportunity to try out the sport before registering. The event is specifically designed for children 11 and under. \nRegister here: West Valley Try Softball Day Registration
URL:https://silverspringscommunity.ca/event/try-softball-with-west-valley-softball/
LOCATION:TB Riley Junior High\, 3915 69 St NW\,\, Calgary
ATTACH;FMTTYPE=image/jpeg:https://silverspringscommunity.ca/wp-content/uploads/2025/01/image0-scaled.jpeg
ORGANIZER;CN="West Valley Softball":MAILTO:president@westvalleysoftball.ca
END:VEVENT
BEGIN:VEVENT
DTSTART;TZID=America/Edmonton:20250218T133000
DTEND;TZID=America/Edmonton:20250218T160000
DTSTAMP:20260424T155305
CREATED:20250114T195155Z
LAST-MODIFIED:20250124T171129Z
UID:18490-1739885400-1739894400@silverspringscommunity.ca
SUMMARY:Proactive Seniors: Understanding and Navigating Seniors Housing
DESCRIPTION:Join us for an information session on Understanding and Navigating Seniors Housing with Judy Deleo from Proactive Seniors on Tuesday\, February 18 at 1:30pm.  \nThe session will touch on Senior Housing Options\, Subsidized – AHS Funded\, Private Pay Retirement Options\, Independent Living – Assisted Living. \nThis is a free event that will take place in the SSCA boardroom. Limited number of tickets available. When tickets sell out there will be a waitlist. Registration opens on Wednesday\, February 5 at 9:00AM. 
URL:https://silverspringscommunity.ca/event/proactive-seniors/
LOCATION:AB
ATTACH;FMTTYPE=image/png:https://silverspringscommunity.ca/wp-content/uploads/2025/01/Poster-for-Silver-Springs-e1736884275312.png
END:VEVENT
BEGIN:VEVENT
DTSTART;TZID=America/Edmonton:20250228T100000
DTEND;TZID=America/Edmonton:20250228T123000
DTSTAMP:20260424T155305
CREATED:20250123T223326Z
LAST-MODIFIED:20250123T223326Z
UID:18545-1740736800-1740745800@silverspringscommunity.ca
SUMMARY:Calgary Philharmonic - Open Rehearsal\, Symphonie Fantastique
DESCRIPTION:$15.00 CASH to be paid upon arrival on the day of the performance. More details (time\, carpooling\, etc.) will be provided to those who are attending. This has always been an entertaining morning. For more information about the open rehearsal visit calgaryphil.com/education/open-rehearsals/. \n\nContact karenk@silverspringscommunity.ca if you plan to attend and can either drive for carpooling or would like a ride and will help with the parking fees.
URL:https://silverspringscommunity.ca/event/calgary-philharmonic-open-rehearsal-symphonie-fantastique/
LOCATION:AB
ATTACH;FMTTYPE=image/png:https://silverspringscommunity.ca/wp-content/uploads/2025/01/Calgary-Philharmonic-1-e1737671580753.png
END:VEVENT
BEGIN:VEVENT
DTSTART;TZID=America/Edmonton:20250228T193000
DTEND;TZID=America/Edmonton:20250228T230000
DTSTAMP:20260424T155305
CREATED:20250123T194515Z
LAST-MODIFIED:20250123T201203Z
UID:18539-1740771000-1740783600@silverspringscommunity.ca
SUMMARY:Tribute to Gordon Lightfoot at the Calgary Folk Club
DESCRIPTION:Fri Feb 28\, 2025 from 7:30 PM – 11:00 PM \nCalgary Folk Club: 5432 Dalhart Rd NW \n$25 per person \nA Tribute to Gordon Lightfoot \nRegistration opens on Wednesday\, February 5 at 9:00AM.  \n \nMain performer : Picking Up the Pieces: A Tribute to Gordon Lightfoot (AB) \nThe iconic Gordon Lightfoot is at the epicentre of folk music in Canada and beyond. When John Hewitt started Second Sunset Productions\, the first show he wanted to launch was Picking up the Pieces: A Tribute to Gordon Lightfoot\, featuring longtime friend and musical collaborator Benjamin Williams. \nOpening performer: John Muirhead (ON) \nJohn Muirhead is a Toronto-based troubadour creating big-hearted indie-folk music. With a growing community of over 75\,000 fans on his social media channels\, solid touring\, a CFMA to his name\, festival appearances and collaborations with Whitehorse and Joel Plaskett\, Muirhead is emerging as a star on the Canadian scene.
URL:https://silverspringscommunity.ca/event/tribute-to-gordon-lightfoot/
LOCATION:AB
ATTACH;FMTTYPE=image/png:https://silverspringscommunity.ca/wp-content/uploads/2025/01/Gordon-Lightfoot-Calgary-Folk-Club.png
END:VEVENT
END:VCALENDAR