BEGIN:VCALENDAR
VERSION:2.0
PRODID:-//Silver Springs Community Association - ECPv6.15.20//NONSGML v1.0//EN
CALSCALE:GREGORIAN
METHOD:PUBLISH
X-WR-CALNAME:Silver Springs Community Association
X-ORIGINAL-URL:https://silverspringscommunity.ca
X-WR-CALDESC:Events for Silver Springs Community Association
REFRESH-INTERVAL;VALUE=DURATION:PT1H
X-Robots-Tag:noindex
X-PUBLISHED-TTL:PT1H
BEGIN:VTIMEZONE
TZID:America/Edmonton
BEGIN:DAYLIGHT
TZOFFSETFROM:-0700
TZOFFSETTO:-0600
TZNAME:MDT
DTSTART:20240310T090000
END:DAYLIGHT
BEGIN:STANDARD
TZOFFSETFROM:-0600
TZOFFSETTO:-0700
TZNAME:MST
DTSTART:20241103T080000
END:STANDARD
BEGIN:DAYLIGHT
TZOFFSETFROM:-0700
TZOFFSETTO:-0600
TZNAME:MDT
DTSTART:20250309T090000
END:DAYLIGHT
BEGIN:STANDARD
TZOFFSETFROM:-0600
TZOFFSETTO:-0700
TZNAME:MST
DTSTART:20251102T080000
END:STANDARD
BEGIN:DAYLIGHT
TZOFFSETFROM:-0700
TZOFFSETTO:-0600
TZNAME:MDT
DTSTART:20260308T090000
END:DAYLIGHT
BEGIN:STANDARD
TZOFFSETFROM:-0600
TZOFFSETTO:-0700
TZNAME:MST
DTSTART:20261101T080000
END:STANDARD
END:VTIMEZONE
BEGIN:VEVENT
DTSTART;TZID=America/Edmonton:20250109T183000
DTEND;TZID=America/Edmonton:20250109T200000
DTSTAMP:20260424T173724
CREATED:20241127T181439Z
LAST-MODIFIED:20241127T181723Z
UID:18029-1736447400-1736452800@silverspringscommunity.ca
SUMMARY:Preschool Open House
DESCRIPTION:An in-person open house will be held January 9th at the Silver Springs Community Centre from 6:30-8pm. This is a wonderful opportunity to tour the preschool and meet our fantastic teachers. \nTo learn more about our preschool take a virtual tour: silverspringscommunity.ca/preschool or call 403-288-2616 for further information. \nRegistration for the 2025/2026 school year is coming up! \nWe will be accepting applications for the following programs: \n3-year-old Half Day \n4-year-old Half Day \n4-year-old Full Day \nDon’t miss your chance to enroll your little one! Spaces fill up quickly. \nThe preschool is overseen by the Silver Springs Community Association (SSCA) and operates as a nondenominational and non-profit organization.   
URL:https://silverspringscommunity.ca/event/preschool-open-house/
LOCATION:Silver Springs Community Center\, 5720 Silver Ridge Drive NW\, Calgary\, AB\, T3B 5E5\, Canada
ATTACH;FMTTYPE=image/jpeg:https://silverspringscommunity.ca/wp-content/uploads/2021/11/2021_SSPS_Logo.jpg
ORGANIZER;CN="SILVER SPRINGS COMMUNITY ASSOCIATION":MAILTO:programs@silverspringscommunity.ca
END:VEVENT
BEGIN:VEVENT
DTSTART;TZID=America/Edmonton:20250117T080000
DTEND;TZID=America/Edmonton:20250117T170000
DTSTAMP:20260424T173724
CREATED:20250111T000922Z
LAST-MODIFIED:20250111T000922Z
UID:18395-1737100800-1737133200@silverspringscommunity.ca
SUMMARY:Karaoke Night
DESCRIPTION:Karaoke Night – January 17 2025 | 7 – 10pm | Silver Springs Community Association \nEntry fee $10.00 \nLight snacks and cash bar \nJoin us for a fun filled evening of music\, laughter\, dancing and community! Come ready with a selection of song choices! \nRegister here!
URL:https://silverspringscommunity.ca/event/karaoke-night/
LOCATION:Silver Springs Community Center\, 5720 Silver Ridge Drive NW\, Calgary\, AB\, T3B 5E5\, Canada
ATTACH;FMTTYPE=image/png:https://silverspringscommunity.ca/wp-content/uploads/2025/01/Blue-and-White-Simple-Medical-Form-A4-Document.png
ORGANIZER;CN="SILVER SPRINGS COMMUNITY ASSOCIATION":MAILTO:programs@silverspringscommunity.ca
END:VEVENT
END:VCALENDAR