BEGIN:VCALENDAR
VERSION:2.0
PRODID:-//Silver Springs Community Association - ECPv6.15.20//NONSGML v1.0//EN
CALSCALE:GREGORIAN
METHOD:PUBLISH
X-ORIGINAL-URL:https://silverspringscommunity.ca
X-WR-CALDESC:Events for Silver Springs Community Association
REFRESH-INTERVAL;VALUE=DURATION:PT1H
X-Robots-Tag:noindex
X-PUBLISHED-TTL:PT1H
BEGIN:VTIMEZONE
TZID:America/Edmonton
BEGIN:DAYLIGHT
TZOFFSETFROM:-0700
TZOFFSETTO:-0600
TZNAME:MDT
DTSTART:20230312T090000
END:DAYLIGHT
BEGIN:STANDARD
TZOFFSETFROM:-0600
TZOFFSETTO:-0700
TZNAME:MST
DTSTART:20231105T080000
END:STANDARD
BEGIN:DAYLIGHT
TZOFFSETFROM:-0700
TZOFFSETTO:-0600
TZNAME:MDT
DTSTART:20240310T090000
END:DAYLIGHT
BEGIN:STANDARD
TZOFFSETFROM:-0600
TZOFFSETTO:-0700
TZNAME:MST
DTSTART:20241103T080000
END:STANDARD
BEGIN:DAYLIGHT
TZOFFSETFROM:-0700
TZOFFSETTO:-0600
TZNAME:MDT
DTSTART:20250309T090000
END:DAYLIGHT
BEGIN:STANDARD
TZOFFSETFROM:-0600
TZOFFSETTO:-0700
TZNAME:MST
DTSTART:20251102T080000
END:STANDARD
END:VTIMEZONE
BEGIN:VEVENT
DTSTART;TZID=America/Edmonton:20241116T100000
DTEND;TZID=America/Edmonton:20241116T150000
DTSTAMP:20260424T212134
CREATED:20240731T113031Z
LAST-MODIFIED:20241029T155703Z
UID:17087-1731751200-1731769200@silverspringscommunity.ca
SUMMARY:Christmas Craft Market
DESCRIPTION:Shop local this holiday season on Saturday\, November 16th from 10:00-3:00. Start your Christmas shopping with unique\, one of a kind\, handcrafted items! Knitting\, crocheting\, pebble art\, barnwood crafts\, quilting\, upcycled goods\, art cards\, sewing\, original artwork\, pet items\, and much much more! YYC Food Trucks will be on site! \nFood bank donations being accepted!
URL:https://silverspringscommunity.ca/event/craft-market/
LOCATION:Silver Springs Community Center\, 5720 Silver Ridge Drive NW\, Calgary\, AB\, T3B 5E5\, Canada
ATTACH;FMTTYPE=image/png:https://silverspringscommunity.ca/wp-content/uploads/2024/07/Crafters-Market-Facebook-Post-1080-x-1350-px-1.png
ORGANIZER;CN="SILVER SPRINGS COMMUNITY ASSOCIATION":MAILTO:programs@silverspringscommunity.ca
END:VEVENT
BEGIN:VEVENT
DTSTART;TZID=America/Edmonton:20241118T133000
DTEND;TZID=America/Edmonton:20241118T160000
DTSTAMP:20260424T212134
CREATED:20241010T170545Z
LAST-MODIFIED:20241029T192448Z
UID:17723-1731936600-1731945600@silverspringscommunity.ca
SUMMARY:Senior's Estate Planning Information Session
DESCRIPTION:Join us for an information session on the legal basics with Christianne Murphy on November 18 at 1:30pm. The session will touch on creating an Estate Plan. Topics covered will include: Wills; Enduring Powers of Attorney; and Personal Directives. \nThis is a free event that will take place in the SSCA boardroom. Limited number of tickets available. When tickets sell out there will be a waitlist. Registration opens on Friday\, November 1 at 9:00AM. 
URL:https://silverspringscommunity.ca/event/seniorsestateplanning/
LOCATION:AB
ATTACH;FMTTYPE=application/pdf:https://silverspringscommunity.ca/wp-content/uploads/2024/10/Event-Brochure.pdf
END:VEVENT
END:VCALENDAR