BEGIN:VCALENDAR
VERSION:2.0
PRODID:-//Silver Springs Community Association - ECPv6.15.20//NONSGML v1.0//EN
CALSCALE:GREGORIAN
METHOD:PUBLISH
X-WR-CALNAME:Silver Springs Community Association
X-ORIGINAL-URL:https://silverspringscommunity.ca
X-WR-CALDESC:Events for Silver Springs Community Association
REFRESH-INTERVAL;VALUE=DURATION:PT1H
X-Robots-Tag:noindex
X-PUBLISHED-TTL:PT1H
BEGIN:VTIMEZONE
TZID:America/Edmonton
BEGIN:DAYLIGHT
TZOFFSETFROM:-0700
TZOFFSETTO:-0600
TZNAME:MDT
DTSTART:20230312T090000
END:DAYLIGHT
BEGIN:STANDARD
TZOFFSETFROM:-0600
TZOFFSETTO:-0700
TZNAME:MST
DTSTART:20231105T080000
END:STANDARD
BEGIN:DAYLIGHT
TZOFFSETFROM:-0700
TZOFFSETTO:-0600
TZNAME:MDT
DTSTART:20240310T090000
END:DAYLIGHT
BEGIN:STANDARD
TZOFFSETFROM:-0600
TZOFFSETTO:-0700
TZNAME:MST
DTSTART:20241103T080000
END:STANDARD
BEGIN:DAYLIGHT
TZOFFSETFROM:-0700
TZOFFSETTO:-0600
TZNAME:MDT
DTSTART:20250309T090000
END:DAYLIGHT
BEGIN:STANDARD
TZOFFSETFROM:-0600
TZOFFSETTO:-0700
TZNAME:MST
DTSTART:20251102T080000
END:STANDARD
END:VTIMEZONE
BEGIN:VEVENT
DTSTART;TZID=America/Edmonton:20240205T090000
DTEND;TZID=America/Edmonton:20240410T170000
DTSTAMP:20260425T092156
CREATED:20240119T013245Z
LAST-MODIFIED:20240119T013245Z
UID:15378-1707123600-1712768400@silverspringscommunity.ca
SUMMARY:Silver Springs Soccer Registration
DESCRIPTION:Save the date! \nRegistration will open February 5th 2024 at 9:00am! \nFull details can be found here.
URL:https://silverspringscommunity.ca/event/silver-springs-soccer-registration/
LOCATION:Silver Springs Community Center\, 5720 Silver Ridge Drive NW\, Calgary\, AB\, T3B 5E5\, Canada
ATTACH;FMTTYPE=image/png:https://silverspringscommunity.ca/wp-content/uploads/2024/01/Silver-springs-5.png
ORGANIZER;CN="SILVER SPRINGS COMMUNITY ASSOCIATION":MAILTO:programs@silverspringscommunity.ca
END:VEVENT
BEGIN:VEVENT
DTSTART;TZID=America/Edmonton:20240312T090000
DTEND;TZID=America/Edmonton:20240430T150000
DTSTAMP:20260425T092156
CREATED:20240306T202704Z
LAST-MODIFIED:20240306T203507Z
UID:15585-1710234000-1714489200@silverspringscommunity.ca
SUMMARY:Dalhousie-Free Tax Clinic for Seniors-March 12-April 30 (Tuesdays-9am-3pm)
DESCRIPTION:Dalhousie Community Association is hosting a free tax clinic for seniors from March 12th to April 30th on Tuesdays from 9am-3pm. Please click below for more information. \n2024 tax poster
URL:https://silverspringscommunity.ca/event/dalhousie-free-tax-clinic-for-seniors-march-12-april-30-tuesdays-9am-3pm/
LOCATION:Dalhousie Community Association\, 5432 Dalhart Road NW
END:VEVENT
BEGIN:VEVENT
DTSTART;TZID=America/Edmonton:20240407T130000
DTEND;TZID=America/Edmonton:20240407T160000
DTSTAMP:20260425T092156
CREATED:20240307T165816Z
LAST-MODIFIED:20240307T184316Z
UID:15602-1712494800-1712505600@silverspringscommunity.ca
SUMMARY:Free Softball Umpire Clinic
DESCRIPTION:West Valley Softball is inviting parents and players (age 14+) to attend a free umpire clinic at the Silver Springs Community Center.
URL:https://silverspringscommunity.ca/event/free-softball-umpire-clinic/
LOCATION:Silver Springs Community Center\, 5720 Silver Ridge Drive NW\, Calgary\, AB\, T3B 5E5\, Canada
ORGANIZER;CN="West Valley Softball":MAILTO:president@westvalleysoftball.ca
END:VEVENT
BEGIN:VEVENT
DTSTART;TZID=America/Edmonton:20240417T193000
DTEND;TZID=America/Edmonton:20240417T203000
DTSTAMP:20260425T092156
CREATED:20240215T000011Z
LAST-MODIFIED:20240215T000242Z
UID:15507-1713382200-1713385800@silverspringscommunity.ca
SUMMARY:Garden Speaker Series #2 Creating a Drought Resistant Garden
DESCRIPTION:Garden Speaker Series #2 Creating a Drought Resistant Garden with Jennifer Hoglin on April 17 2024 \nLocation: In the Edible Garden-Weather Permitting. \nAll presentations will be held in the Board Room in the Silver Springs Community Centre unless otherwise indicated. Talks start at 7:30 pm/$15 per presentation OR \n$50 if registering for all 4 talks at the same time. \n \n*Sponsored by the Edible Garden\, the Botanical Gardens and the Seniors’ Groups of Silver Springs*
URL:https://silverspringscommunity.ca/event/garden-speaker-series-2-creating-a-drought-resistant-garden-2/
LOCATION:Edible Garden of Silver Springs
ATTACH;FMTTYPE=image/png:https://silverspringscommunity.ca/wp-content/uploads/2024/02/Untitled-design-5.png
END:VEVENT
BEGIN:VEVENT
DTSTART;TZID=America/Edmonton:20240425T170000
DTEND;TZID=America/Edmonton:20240425T203000
DTSTAMP:20260425T092156
CREATED:20240401T022548Z
LAST-MODIFIED:20240417T155058Z
UID:15655-1714064400-1714077000@silverspringscommunity.ca
SUMMARY:Open House - SSCA Info Session
DESCRIPTION:Join us at the Silver Springs Community Centre on Thursday April 25\, 2024 for the SSCA Open House and Info session. Doors will be open 5pm – 8:30pm. Stop in to learn about the SSCA building expansion\, find out about current SSCA projects and initiatives\, find out details about the SSCA 50th Anniversary BBQ on June 22\, 2024 meet our board members and hear about opportunities in our community. \nEvent for all ages! Pizza & refreshments\, kids activities\, AMAZING door prizes\, and more!! \nContact events@silverspringscommunity.ca for more information.
URL:https://silverspringscommunity.ca/event/open-house-ssca-info-session/
LOCATION:Silver Springs Community Center\, 5720 Silver Ridge Drive NW\, Calgary\, AB\, T3B 5E5\, Canada
ATTACH;FMTTYPE=image/png:https://silverspringscommunity.ca/wp-content/uploads/2021/04/register.png
ORGANIZER;CN="SILVER SPRINGS COMMUNITY ASSOCIATION":MAILTO:programs@silverspringscommunity.ca
END:VEVENT
END:VCALENDAR