BEGIN:VCALENDAR
VERSION:2.0
PRODID:-//Silver Springs Community Association - ECPv6.15.20//NONSGML v1.0//EN
CALSCALE:GREGORIAN
METHOD:PUBLISH
X-WR-CALNAME:Silver Springs Community Association
X-ORIGINAL-URL:https://silverspringscommunity.ca
X-WR-CALDESC:Events for Silver Springs Community Association
REFRESH-INTERVAL;VALUE=DURATION:PT1H
X-Robots-Tag:noindex
X-PUBLISHED-TTL:PT1H
BEGIN:VTIMEZONE
TZID:America/Edmonton
BEGIN:DAYLIGHT
TZOFFSETFROM:-0700
TZOFFSETTO:-0600
TZNAME:MDT
DTSTART:20230312T090000
END:DAYLIGHT
BEGIN:STANDARD
TZOFFSETFROM:-0600
TZOFFSETTO:-0700
TZNAME:MST
DTSTART:20231105T080000
END:STANDARD
BEGIN:DAYLIGHT
TZOFFSETFROM:-0700
TZOFFSETTO:-0600
TZNAME:MDT
DTSTART:20240310T090000
END:DAYLIGHT
BEGIN:STANDARD
TZOFFSETFROM:-0600
TZOFFSETTO:-0700
TZNAME:MST
DTSTART:20241103T080000
END:STANDARD
BEGIN:DAYLIGHT
TZOFFSETFROM:-0700
TZOFFSETTO:-0600
TZNAME:MDT
DTSTART:20250309T090000
END:DAYLIGHT
BEGIN:STANDARD
TZOFFSETFROM:-0600
TZOFFSETTO:-0700
TZNAME:MST
DTSTART:20251102T080000
END:STANDARD
END:VTIMEZONE
BEGIN:VEVENT
DTSTART;TZID=America/Edmonton:20240205T090000
DTEND;TZID=America/Edmonton:20240410T170000
DTSTAMP:20260425T110728
CREATED:20240119T013245Z
LAST-MODIFIED:20240119T013245Z
UID:15378-1707123600-1712768400@silverspringscommunity.ca
SUMMARY:Silver Springs Soccer Registration
DESCRIPTION:Save the date! \nRegistration will open February 5th 2024 at 9:00am! \nFull details can be found here.
URL:https://silverspringscommunity.ca/event/silver-springs-soccer-registration/
LOCATION:Silver Springs Community Center\, 5720 Silver Ridge Drive NW\, Calgary\, AB\, T3B 5E5\, Canada
ATTACH;FMTTYPE=image/png:https://silverspringscommunity.ca/wp-content/uploads/2024/01/Silver-springs-5.png
ORGANIZER;CN="SILVER SPRINGS COMMUNITY ASSOCIATION":MAILTO:programs@silverspringscommunity.ca
END:VEVENT
BEGIN:VEVENT
DTSTART;TZID=America/Edmonton:20240311T133000
DTEND;TZID=America/Edmonton:20240311T163000
DTSTAMP:20260425T110728
CREATED:20240301T192901Z
LAST-MODIFIED:20240301T193013Z
UID:15554-1710163800-1710174600@silverspringscommunity.ca
SUMMARY:Ukulele Afternoon
DESCRIPTION:Aloha! Join us at the SSCA on March 11 at 1:30 – 4:00 PM in the boardroom. This will be limited to 20-25 people. The cost will be $35.00. \n  \nThis will be put on by Honolua Ukuleles\, a Calgary-based company that was founded in 2017. They supply the ukuleles and all the tools to teach the group how to play. \nWe are asking that people come dressed Hawaiian. There will be Hawaiian decorations and Hawaiian refreshments. \n 
URL:https://silverspringscommunity.ca/event/ukulele-afternoon/
LOCATION:Silver Springs Community Center\, 5720 Silver Ridge Drive NW\, Calgary\, AB\, T3B 5E5\, Canada
END:VEVENT
BEGIN:VEVENT
DTSTART;TZID=America/Edmonton:20240312T090000
DTEND;TZID=America/Edmonton:20240430T150000
DTSTAMP:20260425T110728
CREATED:20240306T202704Z
LAST-MODIFIED:20240306T203507Z
UID:15585-1710234000-1714489200@silverspringscommunity.ca
SUMMARY:Dalhousie-Free Tax Clinic for Seniors-March 12-April 30 (Tuesdays-9am-3pm)
DESCRIPTION:Dalhousie Community Association is hosting a free tax clinic for seniors from March 12th to April 30th on Tuesdays from 9am-3pm. Please click below for more information. \n2024 tax poster
URL:https://silverspringscommunity.ca/event/dalhousie-free-tax-clinic-for-seniors-march-12-april-30-tuesdays-9am-3pm/
LOCATION:Dalhousie Community Association\, 5432 Dalhart Road NW
END:VEVENT
BEGIN:VEVENT
DTSTART;TZID=America/Edmonton:20240313T183000
DTEND;TZID=America/Edmonton:20240313T193000
DTSTAMP:20260425T110728
CREATED:20240301T195621Z
LAST-MODIFIED:20240301T195629Z
UID:15558-1710354600-1710358200@silverspringscommunity.ca
SUMMARY:Try Softball Day
DESCRIPTION:West Valley – Try Softball Day Wednesday March 13 2024 6:30 to 7:30pm \n  \nNew players can try softball before registering. The event is geared towards children 11 and under\, with no or limited softball experience. \nDate: Wednesday March 13 2024 – 6:30 to 7:30pm \nLocation: TB Riley Junior High\, 3915 69 St NW\, \nLink to register: https://registrationsystem.strategicconsultinggroup.ca/silversprings/signup/westvalley
URL:https://silverspringscommunity.ca/event/try-softball-day/
LOCATION:TB Riley Junior High\, 3915 69 St NW\,\, Calgary
END:VEVENT
BEGIN:VEVENT
DTSTART;TZID=America/Edmonton:20240327T193000
DTEND;TZID=America/Edmonton:20240327T203000
DTSTAMP:20260425T110728
CREATED:20240214T234534Z
LAST-MODIFIED:20240215T000254Z
UID:15495-1711567800-1711571400@silverspringscommunity.ca
SUMMARY:Garden Speaker Series #1 Seed Starting 101
DESCRIPTION:Garden Speaker Series #1 Seed Starting 101 with Jennifer Hoglin on March 27 2024 \nLocation: In the Edible Garden-Weather Permitting. \nAll presentations will be held in the Board Room in the Silver Springs Community Centre unless otherwise indicated. Talks start at 7:30 pm/$15 per presentation OR \n$50 if registering for all 4 talks at the same time. \n \n*Sponsored by the Edible Garden\, the Botanical Gardens and the Seniors’ Groups of Silver Springs*
URL:https://silverspringscommunity.ca/event/garden-speaker-series-1-seed-starting-101/
LOCATION:Edible Garden of Silver Springs
ATTACH;FMTTYPE=image/png:https://silverspringscommunity.ca/wp-content/uploads/2023/03/Green-Watercolor-Leaf-Twitter-Header.png
END:VEVENT
END:VCALENDAR