BEGIN:VCALENDAR
VERSION:2.0
PRODID:-//Silver Springs Community Association - ECPv6.15.20//NONSGML v1.0//EN
CALSCALE:GREGORIAN
METHOD:PUBLISH
X-ORIGINAL-URL:https://silverspringscommunity.ca
X-WR-CALDESC:Events for Silver Springs Community Association
REFRESH-INTERVAL;VALUE=DURATION:PT1H
X-Robots-Tag:noindex
X-PUBLISHED-TTL:PT1H
BEGIN:VTIMEZONE
TZID:America/Edmonton
BEGIN:DAYLIGHT
TZOFFSETFROM:-0700
TZOFFSETTO:-0600
TZNAME:MDT
DTSTART:20230312T090000
END:DAYLIGHT
BEGIN:STANDARD
TZOFFSETFROM:-0600
TZOFFSETTO:-0700
TZNAME:MST
DTSTART:20231105T080000
END:STANDARD
BEGIN:DAYLIGHT
TZOFFSETFROM:-0700
TZOFFSETTO:-0600
TZNAME:MDT
DTSTART:20240310T090000
END:DAYLIGHT
BEGIN:STANDARD
TZOFFSETFROM:-0600
TZOFFSETTO:-0700
TZNAME:MST
DTSTART:20241103T080000
END:STANDARD
BEGIN:DAYLIGHT
TZOFFSETFROM:-0700
TZOFFSETTO:-0600
TZNAME:MDT
DTSTART:20250309T090000
END:DAYLIGHT
BEGIN:STANDARD
TZOFFSETFROM:-0600
TZOFFSETTO:-0700
TZNAME:MST
DTSTART:20251102T080000
END:STANDARD
END:VTIMEZONE
BEGIN:VEVENT
DTSTART;TZID=America/Edmonton:20240205T090000
DTEND;TZID=America/Edmonton:20240410T170000
DTSTAMP:20260425T125554
CREATED:20240119T013245Z
LAST-MODIFIED:20240119T013245Z
UID:15378-1707123600-1712768400@silverspringscommunity.ca
SUMMARY:Silver Springs Soccer Registration
DESCRIPTION:Save the date! \nRegistration will open February 5th 2024 at 9:00am! \nFull details can be found here.
URL:https://silverspringscommunity.ca/event/silver-springs-soccer-registration/
LOCATION:Silver Springs Community Center\, 5720 Silver Ridge Drive NW\, Calgary\, AB\, T3B 5E5\, Canada
ATTACH;FMTTYPE=image/png:https://silverspringscommunity.ca/wp-content/uploads/2024/01/Silver-springs-5.png
ORGANIZER;CN="SILVER SPRINGS COMMUNITY ASSOCIATION":MAILTO:programs@silverspringscommunity.ca
END:VEVENT
BEGIN:VEVENT
DTSTART;TZID=America/Edmonton:20240223T183000
DTEND;TZID=America/Edmonton:20240223T203000
DTSTAMP:20260425T125554
CREATED:20230811T232739Z
LAST-MODIFIED:20240131T040857Z
UID:14700-1708713000-1708720200@silverspringscommunity.ca
SUMMARY:Jelly Bean Dance
DESCRIPTION:Our next dance is on February 23\, 2024! The dance will start at 6:30 and end at 8:30pm. \n\n\n\nDance tickets are available online starting Feb 1st 2024 at 9am. Tickets are $8 each. Parent volunteers are needed to run these dances. Please visit the sign up link below to volunteer. \n\n\n\n \n\n\n\n\nJellybean dances are dances for grade 4\, 5 and 6 students involving a DJ\, light show\, games and door prizes. We offer a cash only concession at the dances. Future Dances: May 24\, 2024 – Tickets go on sale May 1 at 9am
URL:https://silverspringscommunity.ca/event/jelly-bean-dance-2/
LOCATION:Silver Springs Community Center\, 5720 Silver Ridge Drive NW\, Calgary\, AB\, T3B 5E5\, Canada
ATTACH;FMTTYPE=image/png:https://silverspringscommunity.ca/wp-content/uploads/2023/08/DJ-logo-vinyl-retro-vintage-musical-labelline-vinyl-logo-Letter-2.png
ORGANIZER;CN="SILVER SPRINGS COMMUNITY ASSOCIATION":MAILTO:programs@silverspringscommunity.ca
END:VEVENT
END:VCALENDAR