BEGIN:VCALENDAR
VERSION:2.0
PRODID:-//Silver Springs Community Association - ECPv6.15.20//NONSGML v1.0//EN
CALSCALE:GREGORIAN
METHOD:PUBLISH
X-ORIGINAL-URL:https://silverspringscommunity.ca
X-WR-CALDESC:Events for Silver Springs Community Association
REFRESH-INTERVAL;VALUE=DURATION:PT1H
X-Robots-Tag:noindex
X-PUBLISHED-TTL:PT1H
BEGIN:VTIMEZONE
TZID:America/Edmonton
BEGIN:DAYLIGHT
TZOFFSETFROM:-0700
TZOFFSETTO:-0600
TZNAME:MDT
DTSTART:20220313T090000
END:DAYLIGHT
BEGIN:STANDARD
TZOFFSETFROM:-0600
TZOFFSETTO:-0700
TZNAME:MST
DTSTART:20221106T080000
END:STANDARD
BEGIN:DAYLIGHT
TZOFFSETFROM:-0700
TZOFFSETTO:-0600
TZNAME:MDT
DTSTART:20230312T090000
END:DAYLIGHT
BEGIN:STANDARD
TZOFFSETFROM:-0600
TZOFFSETTO:-0700
TZNAME:MST
DTSTART:20231105T080000
END:STANDARD
BEGIN:DAYLIGHT
TZOFFSETFROM:-0700
TZOFFSETTO:-0600
TZNAME:MDT
DTSTART:20240310T090000
END:DAYLIGHT
BEGIN:STANDARD
TZOFFSETFROM:-0600
TZOFFSETTO:-0700
TZNAME:MST
DTSTART:20241103T080000
END:STANDARD
END:VTIMEZONE
BEGIN:VEVENT
DTSTART;TZID=America/Edmonton:20231015T100000
DTEND;TZID=America/Edmonton:20231015T140000
DTSTAMP:20260425T193355
CREATED:20230813T045348Z
LAST-MODIFIED:20230911T185910Z
UID:14729-1697364000-1697378400@silverspringscommunity.ca
SUMMARY:Pumpkin Patch by Maria & Tim from RE/MAX
DESCRIPTION:Save the date! More details coming soon! \nMaria & Tim from RE/MAX Mountain View are bringing the pumpkin patch to Silver Springs Community Association! \nCome down to the community center October 15th 2023 and select your complimentary pumpkin from the patch. \nLast year was a complete success and we are thrilled to have Maria\, Tim and the patch return.
URL:https://silverspringscommunity.ca/event/pumpkin-patch-by-maria-tim-from-re-max/
LOCATION:SSCA Parking Lot\, 5720 Silver Ridge Drive NW
END:VEVENT
BEGIN:VEVENT
DTSTART;TZID=America/Edmonton:20231016T100000
DTEND;TZID=America/Edmonton:20231106T170000
DTSTAMP:20260425T193355
CREATED:20231004T163259Z
LAST-MODIFIED:20231004T163417Z
UID:14914-1697450400-1699290000@silverspringscommunity.ca
SUMMARY:Let's Shed Light on Dementia
DESCRIPTION:The Silver Springs Community Association will being hosting a presentation by the Active Aging Seniors group on: \nOctober 16th at 10:30am  \nOctober 23rd at 10am  \nOctober 30th at 10am  \nNovember 6th at 10am \n  \nCost is $5 per household for all 4 sessions \nDrop in for $1 per each person (based on availability) \n  \nREGISTER NOW
URL:https://silverspringscommunity.ca/event/lets-shed-light-on-dementia/
LOCATION:Silver Springs Community Center\, 5720 Silver Ridge Drive NW\, Calgary\, AB\, T3B 5E5\, Canada
ORGANIZER;CN="SILVER SPRINGS COMMUNITY ASSOCIATION":MAILTO:programs@silverspringscommunity.ca
END:VEVENT
BEGIN:VEVENT
DTSTART;TZID=America/Edmonton:20231018T103000
DTEND;TZID=America/Edmonton:20231018T113000
DTSTAMP:20260425T193355
CREATED:20231003T184255Z
LAST-MODIFIED:20231003T184255Z
UID:14899-1697625000-1697628600@silverspringscommunity.ca
SUMMARY:Drop In Play Time
DESCRIPTION:Come join us and meet other families in the community! We’ll have toys\, books and games. Recommended ages 0-5 years of age. All families welcome. $2 drop in fee or free with a SSCA membership. Questions? Email us at Events@SilverSpringsCommunity.ca
URL:https://silverspringscommunity.ca/event/drop-in-play-time/
LOCATION:Silver Springs Community Center\, 5720 Silver Ridge Drive NW\, Calgary\, AB\, T3B 5E5\, Canada
ATTACH;FMTTYPE=image/png:https://silverspringscommunity.ca/wp-content/uploads/2023/10/Drop-In-Play.png
ORGANIZER;CN="SILVER SPRINGS COMMUNITY ASSOCIATION":MAILTO:programs@silverspringscommunity.ca
END:VEVENT
BEGIN:VEVENT
DTSTART;TZID=America/Edmonton:20231027T183000
DTEND;TZID=America/Edmonton:20231027T203000
DTSTAMP:20260425T193355
CREATED:20230811T231254Z
LAST-MODIFIED:20231027T153744Z
UID:14689-1698431400-1698438600@silverspringscommunity.ca
SUMMARY:*****SOLD OUT*****Jellybean Dance
DESCRIPTION:*SOLD OUT* \nYou won’t want to miss the return of this event on October 27 2023! The dance will start at 6:30 and end at 8:30pm. \n\n\n\nDance tickets are available online starting October 2 2023 at 9am. Tickets are $8 each. Parent volunteers are needed to run these dances – sign up here. \n  \n\n\n\n\nBuy Tickets Now\n \n \n\n\n\n\nJellybean dances are dances for grade 4\, 5 and 6 students involving a DJ\, light show\, games and door prizes. We offer a cash only concession at the dances. \nFuture Dances: \nFebruary 23\, 2024 – Tickets go on sale February 1 at 9am \nMay 24\, 2024 – Tickets go on sale May 1 at 9am
URL:https://silverspringscommunity.ca/event/jelly-bean-dance/
LOCATION:Silver Springs Community Center\, 5720 Silver Ridge Drive NW\, Calgary\, AB\, T3B 5E5\, Canada
ATTACH;FMTTYPE=image/png:https://silverspringscommunity.ca/wp-content/uploads/2023/08/DJ-logo-vinyl-retro-vintage-musical-labelline-vinyl-logo-Letter-1.png
ORGANIZER;CN="SILVER SPRINGS COMMUNITY ASSOCIATION":MAILTO:programs@silverspringscommunity.ca
END:VEVENT
END:VCALENDAR