BEGIN:VCALENDAR
VERSION:2.0
PRODID:-//Silver Springs Community Association - ECPv6.15.20//NONSGML v1.0//EN
CALSCALE:GREGORIAN
METHOD:PUBLISH
X-WR-CALNAME:Silver Springs Community Association
X-ORIGINAL-URL:https://silverspringscommunity.ca
X-WR-CALDESC:Events for Silver Springs Community Association
REFRESH-INTERVAL;VALUE=DURATION:PT1H
X-Robots-Tag:noindex
X-PUBLISHED-TTL:PT1H
BEGIN:VTIMEZONE
TZID:America/Edmonton
BEGIN:DAYLIGHT
TZOFFSETFROM:-0700
TZOFFSETTO:-0600
TZNAME:MDT
DTSTART:20210314T090000
END:DAYLIGHT
BEGIN:STANDARD
TZOFFSETFROM:-0600
TZOFFSETTO:-0700
TZNAME:MST
DTSTART:20211107T080000
END:STANDARD
BEGIN:DAYLIGHT
TZOFFSETFROM:-0700
TZOFFSETTO:-0600
TZNAME:MDT
DTSTART:20220313T090000
END:DAYLIGHT
BEGIN:STANDARD
TZOFFSETFROM:-0600
TZOFFSETTO:-0700
TZNAME:MST
DTSTART:20221106T080000
END:STANDARD
BEGIN:DAYLIGHT
TZOFFSETFROM:-0700
TZOFFSETTO:-0600
TZNAME:MDT
DTSTART:20230312T090000
END:DAYLIGHT
BEGIN:STANDARD
TZOFFSETFROM:-0600
TZOFFSETTO:-0700
TZNAME:MST
DTSTART:20231105T080000
END:STANDARD
END:VTIMEZONE
BEGIN:VEVENT
DTSTART;TZID=America/Edmonton:20221023T100000
DTEND;TZID=America/Edmonton:20221023T140000
DTSTAMP:20260425T052312
CREATED:20220917T014814Z
LAST-MODIFIED:20220917T014814Z
UID:13267-1666519200-1666533600@silverspringscommunity.ca
SUMMARY:Maria & Tim's Pumpkin Patch
DESCRIPTION:
URL:https://silverspringscommunity.ca/event/maria-tims-pumpkin-patch/
LOCATION:SSCA Parking Lot\, 5720 Silver Ridge Drive NW
END:VEVENT
BEGIN:VEVENT
DTSTART;TZID=America/Edmonton:20220918T090000
DTEND;TZID=America/Edmonton:20220918T140000
DTSTAMP:20260425T052312
CREATED:20220303T211642Z
LAST-MODIFIED:20220303T211750Z
UID:12477-1663491600-1663509600@silverspringscommunity.ca
SUMMARY:Community Clean UP Day
DESCRIPTION:Clean out those garages\, basements and backyard! \n9 – 2pm \nGarbage and compost trucks\, medal recycling! \nCommunity Cleanup events save residents a trip to the landfill for items that do not fit in their waste and recycling carts or for residents who do not have access to cart service. This service is free of charge to all Calgarians. \nVolunteers will be needed!
URL:https://silverspringscommunity.ca/event/community-clean-up-day/
LOCATION:AB
END:VEVENT
BEGIN:VEVENT
DTSTART;TZID=America/Edmonton:20220905T120000
DTEND;TZID=America/Edmonton:20220905T180000
DTSTAMP:20260425T052312
CREATED:20220303T213912Z
LAST-MODIFIED:20220303T213912Z
UID:12487-1662379200-1662400800@silverspringscommunity.ca
SUMMARY:Silver Springs Pool-  POOL CLOSES FOR THE SEASON
DESCRIPTION:
URL:https://silverspringscommunity.ca/event/silver-springs-pool-pool-closes-for-the-season/
LOCATION:AB
END:VEVENT
BEGIN:VEVENT
DTSTART;TZID=America/Edmonton:20220830T183000
DTEND;TZID=America/Edmonton:20220830T193000
DTSTAMP:20260425T052312
CREATED:20220428T170855Z
LAST-MODIFIED:20220428T170855Z
UID:12661-1661884200-1661887800@silverspringscommunity.ca
SUMMARY:Yoga In The Park 2022
DESCRIPTION:Tuesdays:  6:30 – 7:30pm \nJune 14 – August 30 \nLocation:  Botanical Gardens: beside the Oval Garden
URL:https://silverspringscommunity.ca/event/yoga-in-the-park-2022-12/
LOCATION:AB
END:VEVENT
BEGIN:VEVENT
DTSTART;TZID=America/Edmonton:20220823T183000
DTEND;TZID=America/Edmonton:20220823T193000
DTSTAMP:20260425T052312
CREATED:20220428T170823Z
LAST-MODIFIED:20220428T170823Z
UID:12659-1661279400-1661283000@silverspringscommunity.ca
SUMMARY:Yoga In The Park 2022
DESCRIPTION:Tuesdays:  6:30 – 7:30pm \nJune 14 – August 30 \nLocation:  Botanical Gardens: beside the Oval Garden
URL:https://silverspringscommunity.ca/event/yoga-in-the-park-2022-11/
LOCATION:AB
END:VEVENT
BEGIN:VEVENT
DTSTART;TZID=America/Edmonton:20220820T100000
DTEND;TZID=America/Edmonton:20220820T130000
DTSTAMP:20260425T052312
CREATED:20220728T161246Z
LAST-MODIFIED:20220728T161614Z
UID:12998-1660989600-1661000400@silverspringscommunity.ca
SUMMARY:The Year of the Garden-Canadian Bred Roses
DESCRIPTION:At the Rose Bowl \nhttps://bgss.ca/#latest
URL:https://silverspringscommunity.ca/event/the-year-of-the-garden-canadian-bred-roses-2/
LOCATION:AB
END:VEVENT
BEGIN:VEVENT
DTSTART;TZID=America/Edmonton:20220816T183000
DTEND;TZID=America/Edmonton:20220816T193000
DTSTAMP:20260425T052312
CREATED:20220428T170752Z
LAST-MODIFIED:20220428T170752Z
UID:12657-1660674600-1660678200@silverspringscommunity.ca
SUMMARY:Yoga In The Park 2022
DESCRIPTION:Tuesdays:  6:30 – 7:30pm \nJune 14 – August 30 \nLocation:  Botanical Gardens: beside the Oval Garden
URL:https://silverspringscommunity.ca/event/yoga-in-the-park-2022-10/
LOCATION:AB
END:VEVENT
BEGIN:VEVENT
DTSTART;TZID=America/Edmonton:20220813T100000
DTEND;TZID=America/Edmonton:20220813T113000
DTSTAMP:20260425T052312
CREATED:20220728T160930Z
LAST-MODIFIED:20220728T161633Z
UID:12996-1660384800-1660390200@silverspringscommunity.ca
SUMMARY:The Year of the Garden-Labyrinth Garden
DESCRIPTION:At the Labyrinth Garden \nhttps://bgss.ca/#latest
URL:https://silverspringscommunity.ca/event/the-year-of-the-garden-labyrinth-garden-2/
LOCATION:AB
END:VEVENT
BEGIN:VEVENT
DTSTART;TZID=America/Edmonton:20220809T183000
DTEND;TZID=America/Edmonton:20220809T193000
DTSTAMP:20260425T052312
CREATED:20220428T170721Z
LAST-MODIFIED:20220428T170721Z
UID:12655-1660069800-1660073400@silverspringscommunity.ca
SUMMARY:Yoga In The Park 2022
DESCRIPTION:Tuesdays:  6:30 – 7:30pm \nJune 14 – August 30 \nLocation:  Botanical Gardens: beside the Oval Garden
URL:https://silverspringscommunity.ca/event/yoga-in-the-park-2022-9/
LOCATION:AB
END:VEVENT
BEGIN:VEVENT
DTSTART;TZID=America/Edmonton:20220802T183000
DTEND;TZID=America/Edmonton:20220802T193000
DTSTAMP:20260425T052312
CREATED:20220428T170647Z
LAST-MODIFIED:20220428T170647Z
UID:12653-1659465000-1659468600@silverspringscommunity.ca
SUMMARY:Yoga In The Park 2022
DESCRIPTION:Tuesdays:  6:30 – 7:30pm \nJune 14 – August 30 \nLocation:  Botanical Gardens: beside the Oval Garden
URL:https://silverspringscommunity.ca/event/yoga-in-the-park-2022-8/
LOCATION:AB
END:VEVENT
BEGIN:VEVENT
DTSTART;TZID=America/Edmonton:20220726T183000
DTEND;TZID=America/Edmonton:20220726T193000
DTSTAMP:20260425T052312
CREATED:20220428T170612Z
LAST-MODIFIED:20220428T170612Z
UID:12651-1658860200-1658863800@silverspringscommunity.ca
SUMMARY:Yoga In The Park 2022
DESCRIPTION:Tuesdays:  6:30 – 7:30pm \nJune 14 – August 30 \nLocation:  Botanical Gardens: beside the Oval Garden
URL:https://silverspringscommunity.ca/event/yoga-in-the-park-2022-7/
LOCATION:AB
END:VEVENT
BEGIN:VEVENT
DTSTART;TZID=America/Edmonton:20220719T183000
DTEND;TZID=America/Edmonton:20220719T193000
DTSTAMP:20260425T052312
CREATED:20220428T170543Z
LAST-MODIFIED:20220428T170543Z
UID:12649-1658255400-1658259000@silverspringscommunity.ca
SUMMARY:Yoga In The Park 2022
DESCRIPTION:Tuesdays:  6:30 – 7:30pm \nJune 14 – August 30 \nLocation:  Botanical Gardens: beside the Oval Garden
URL:https://silverspringscommunity.ca/event/yoga-in-the-park-2022-6/
LOCATION:AB
END:VEVENT
BEGIN:VEVENT
DTSTART;TZID=America/Edmonton:20220712T183000
DTEND;TZID=America/Edmonton:20220712T193000
DTSTAMP:20260425T052312
CREATED:20220428T170500Z
LAST-MODIFIED:20220428T170500Z
UID:12647-1657650600-1657654200@silverspringscommunity.ca
SUMMARY:Yoga In The Park
DESCRIPTION:Tuesdays:  6:30 – 7:30pm \nJune 14 – August 30 \nLocation:  Botanical Gardens: beside the Oval Garden
URL:https://silverspringscommunity.ca/event/yoga-in-the-park/
LOCATION:AB
END:VEVENT
BEGIN:VEVENT
DTSTART;TZID=America/Edmonton:20220709T100000
DTEND;TZID=America/Edmonton:20220709T120000
DTSTAMP:20260425T052312
CREATED:20220624T182505Z
LAST-MODIFIED:20220624T183821Z
UID:12922-1657360800-1657368000@silverspringscommunity.ca
SUMMARY:The Year of the Garden-Perennial Celebration
DESCRIPTION:Celebration at the Lower Wall Garden
URL:https://silverspringscommunity.ca/event/the-year-of-the-garden-lower-wall-garden/
LOCATION:AB
END:VEVENT
BEGIN:VEVENT
DTSTART;TZID=America/Edmonton:20220705T183000
DTEND;TZID=America/Edmonton:20220705T193000
DTSTAMP:20260425T052312
CREATED:20220428T170422Z
LAST-MODIFIED:20220428T170422Z
UID:12645-1657045800-1657049400@silverspringscommunity.ca
SUMMARY:Yoga In The Park 2022
DESCRIPTION:Tuesdays:  6:30 – 7:30pm \nJune 14 – August 30 \nLocation:  Botanical Gardens: beside the Oval Garden
URL:https://silverspringscommunity.ca/event/yoga-in-the-park-2022-5/
LOCATION:AB
END:VEVENT
BEGIN:VEVENT
DTSTART;TZID=America/Edmonton:20220702T100000
DTEND;TZID=America/Edmonton:20220702T140000
DTSTAMP:20260425T052312
CREATED:20220525T161229Z
LAST-MODIFIED:20220525T161304Z
UID:12814-1656756000-1656770400@silverspringscommunity.ca
SUMMARY:Year of the Garden-Spring Blooming Roses Celebration
DESCRIPTION:Spring Blooming Roses celebration in the Low H2O Garden\, Shakespeare\, Rose Bowl.
URL:https://silverspringscommunity.ca/event/year-of-the-garden-spring-blooming-roses-celebration/
LOCATION:AB
END:VEVENT
BEGIN:VEVENT
DTSTART;TZID=America/Edmonton:20220628T183000
DTEND;TZID=America/Edmonton:20220628T193000
DTSTAMP:20260425T052312
CREATED:20220428T170328Z
LAST-MODIFIED:20220428T170328Z
UID:12643-1656441000-1656444600@silverspringscommunity.ca
SUMMARY:Yoga In The Park 2022
DESCRIPTION:Tuesdays:  6:30 – 7:30pm \nJune 14 – August 30 \nLocation:  Botanical Gardens: beside the Oval Garden
URL:https://silverspringscommunity.ca/event/yoga-in-the-park-2022-4/
LOCATION:AB
END:VEVENT
BEGIN:VEVENT
DTSTART;TZID=America/Edmonton:20220626T130000
DTEND;TZID=America/Edmonton:20220626T150000
DTSTAMP:20260425T052312
CREATED:20220525T161052Z
LAST-MODIFIED:20220525T161055Z
UID:12812-1656248400-1656255600@silverspringscommunity.ca
SUMMARY:Year of the Garden-Peonies Celebration
DESCRIPTION:Peonies Celebration in the Peony Garden
URL:https://silverspringscommunity.ca/event/year-of-the-garden-peonies-celebration/
LOCATION:AB
END:VEVENT
BEGIN:VEVENT
DTSTART;TZID=America/Edmonton:20220625T120000
DTEND;TZID=America/Edmonton:20220625T150000
DTSTAMP:20260425T052312
CREATED:20220414T172943Z
LAST-MODIFIED:20220614T210015Z
UID:12588-1656158400-1656169200@silverspringscommunity.ca
SUMMARY:Pumptrack Grand Opening Event
DESCRIPTION:The Silver Springs Pump Track was built in the spring of 2021 and unofficially opened on July 1.2021\, but due to the Covid restrictions\, we held off having our official Grand Opening until now!  Come join us for the Official Grand Opening Event June 25th.2022 from 12-3PM at the same time as our Hello Summer BBQ event. Fun for the whole family. \nDonations for the silent auction will be accepted until June 21st.4PM at the SSCA office. \n  \n12-3PM Silent Auction with Themed baskets to raise money for the Silver Springs Pump Track. \n12:00-12:30PM Grand Opening Ceremony with Ribbon Cutting at the Pump Track \n12:30-1:00PM Demo Bike Riders at the Pump Track \n1:00PM Open to Public Rides on the Pump Track and Minor Bike Repairs available onsite for your family bikes\, at our Bike Tent. \n3:00PM closing Bids for the Silent Auction! Highest Bid Wins!! \nMonday June 27th 9-3pm pay to pickup your winning bids! \nVolunteer at the Event on June 25th \nDonate here
URL:https://silverspringscommunity.ca/event/pumptrack-grand-opening-event/
LOCATION:AB
END:VEVENT
BEGIN:VEVENT
DTSTART;TZID=America/Edmonton:20220625T120000
DTEND;TZID=America/Edmonton:20220625T150000
DTSTAMP:20260425T052312
CREATED:20220405T214332Z
LAST-MODIFIED:20220531T161518Z
UID:12553-1656158400-1656169200@silverspringscommunity.ca
SUMMARY:Hello Summer Community BBQ
DESCRIPTION:Come out and celebrate with your neighbours! \n12 – 3pm @ Silver Springs Community Centre \nBurgers and hot dogs\, drinks\, sun and fun! \nBouncy houses\, bike tune-up station and lots more! \nVolunteers needed!  Volunteer here
URL:https://silverspringscommunity.ca/event/hello-summer-community-bbq/
LOCATION:AB
END:VEVENT
BEGIN:VEVENT
DTSTART;TZID=America/Edmonton:20220622T060000
DTEND;TZID=America/Edmonton:20220622T083000
DTSTAMP:20260425T052312
CREATED:20220614T182238Z
LAST-MODIFIED:20220614T182238Z
UID:12870-1655877600-1655886600@silverspringscommunity.ca
SUMMARY:Calgary Eye Opener coming to Silver Springs
DESCRIPTION:Join Angela Knight\, David Gray and the Calgary Eyeopener team as they go for a stroll in Silver Springs for a live broadcast full of conversations\, observations and a few surprises. CBC Calgary’s Battle of the Burbs crowned Silver Springs as Calgary’s best suburb and is ready to uncover every nook and cranny that makes it great as they walk around the neighbourhood live on the radio. Tune in from 6 to 8:37 a.m. at 99.1FM to hear where to find them throughout the show and join us back at SSCA between 8:30 and 9 a.m. to continue the celebrations.
URL:https://silverspringscommunity.ca/event/calgary-eye-opener-coming-to-silver-springs/
LOCATION:AB
END:VEVENT
BEGIN:VEVENT
DTSTART;TZID=America/Edmonton:20220621T183000
DTEND;TZID=America/Edmonton:20220621T193000
DTSTAMP:20260425T052312
CREATED:20220428T170258Z
LAST-MODIFIED:20220428T170258Z
UID:12641-1655836200-1655839800@silverspringscommunity.ca
SUMMARY:Yoga In The Park 2022
DESCRIPTION:Tuesdays:  6:30 – 7:30pm \nJune 14 – August 30 \nLocation:  Botanical Gardens: beside the Oval Garden
URL:https://silverspringscommunity.ca/event/yoga-in-the-park-2022-3/
LOCATION:AB
END:VEVENT
BEGIN:VEVENT
DTSTART;TZID=America/Edmonton:20220621T090000
DTEND;TZID=America/Edmonton:20220621T170000
DTSTAMP:20260425T052312
CREATED:20220512T172947Z
LAST-MODIFIED:20220512T172947Z
UID:12790-1655802000-1655830800@silverspringscommunity.ca
SUMMARY:Private Swim Lesson Registration OPENS
DESCRIPTION:Book your private lessons beginning today at 9am. \nCall the pool at 9am.  403-221-3885/ 403-221-3897
URL:https://silverspringscommunity.ca/event/private-swim-lesson-registration-opens/
LOCATION:AB
END:VEVENT
BEGIN:VEVENT
DTSTART;TZID=America/Edmonton:20220618T120000
DTEND;TZID=America/Edmonton:20220618T180000
DTSTAMP:20260425T052312
CREATED:20220303T213327Z
LAST-MODIFIED:20220303T213327Z
UID:12485-1655553600-1655575200@silverspringscommunity.ca
SUMMARY:Silver Springs Pool- OPENS FOR 2022 SEASON
DESCRIPTION:
URL:https://silverspringscommunity.ca/event/silver-springs-pool-opens-for-2022-season/
LOCATION:AB
END:VEVENT
BEGIN:VEVENT
DTSTART;TZID=America/Edmonton:20220615T193000
DTEND;TZID=America/Edmonton:20220615T193000
DTSTAMP:20260425T052312
CREATED:20220303T204306Z
LAST-MODIFIED:20220303T204435Z
UID:12473-1655321400-1655321400@silverspringscommunity.ca
SUMMARY:Garden Talk #4- Beyond Lawns: Urban Restoration\, Food Forests and Pollinator Gardens
DESCRIPTION:GARDEN TALK #4: Wednesday\, June 15\, 2022 (7:30 pm- virtually via Zoom) \nBeyond Lawns: Urban Restoration\, \nFood Forests and Pollinator Gardens \nPresented by: Jon Berlie\, Burly Creations \n\nThe why\, how and fun of creating local urban restoration projects\,\nwhether it is by designing and planting a food forest garden on your own property\,\nor by providing pollinators with habitat food in native flower gardens in shared community spaces.\nWill also touch on the importance of distinguishing native from introduced species\, and why it matters\n\n  \nRegister Here  $15
URL:https://silverspringscommunity.ca/event/garden-talk-4-beyond-lawns-urban-restoration-food-forests-and-pollinator-gardens/
LOCATION:AB
END:VEVENT
BEGIN:VEVENT
DTSTART;TZID=America/Edmonton:20220615T060000
DTEND;TZID=America/Edmonton:20220615T093000
DTSTAMP:20260425T052312
CREATED:20220503T215406Z
LAST-MODIFIED:20220614T182132Z
UID:12754-1655272800-1655285400@silverspringscommunity.ca
SUMMARY:Calgary Eyeopener coming to Silver Springs
DESCRIPTION:POSTPONED UNTIL JUNE 22 \nJoin Angela Knight\, David Gray and the Calgary Eyeopener team as they go for a stroll in Silver Springs for a live broadcast full of conversations\, observations and a few surprises. CBC Calgary’s Battle of the Burbs crowned Silver Springs as Calgary’s best suburb and is ready to uncover every nook and cranny that makes it great as they walk around the neighbourhood live on the radio. Tune in from 6 to 8:37 a.m. at 99.1FM to hear where to find them throughout the show and join us back at SSCA between 8:30 and 9 a.m. to continue the celebrations.
URL:https://silverspringscommunity.ca/event/calgary-eyeopener-coming-to-silver-springs/
LOCATION:AB
END:VEVENT
BEGIN:VEVENT
DTSTART;TZID=America/Edmonton:20220614T183000
DTEND;TZID=America/Edmonton:20220614T193000
DTSTAMP:20260425T052312
CREATED:20220428T170221Z
LAST-MODIFIED:20220428T170221Z
UID:12639-1655231400-1655235000@silverspringscommunity.ca
SUMMARY:Yoga In The Park 2022
DESCRIPTION:Tuesdays:  6:30 – 7:30pm \nJune 14 – August 30 \nLocation:  Botanical Gardens: beside the Oval Garden
URL:https://silverspringscommunity.ca/event/yoga-in-the-park-2022-2/
LOCATION:AB
END:VEVENT
BEGIN:VEVENT
DTSTART;TZID=America/Edmonton:20220612T150000
DTEND;TZID=America/Edmonton:20220612T180000
DTSTAMP:20260425T052312
CREATED:20220420T171232Z
LAST-MODIFIED:20220425T172708Z
UID:12598-1655046000-1655056800@silverspringscommunity.ca
SUMMARY:Silver Valley Playground Engagement Session
DESCRIPTION:
URL:https://silverspringscommunity.ca/event/silver-valley-playground-engagement-session/
LOCATION:AB
END:VEVENT
BEGIN:VEVENT
DTSTART;TZID=America/Edmonton:20220604T133000
DTEND;TZID=America/Edmonton:20220604T160000
DTSTAMP:20260425T052312
CREATED:20220526T202808Z
LAST-MODIFIED:20220526T202808Z
UID:12817-1654349400-1654358400@silverspringscommunity.ca
SUMMARY:Jazz-niks Big Band Preformance
DESCRIPTION:Spring concert in the Botanical Gardens \nJune 4\, 1:30 – 4pm \nDonations for the band and non-perishable food items for the Food Bank gratefully accepted.
URL:https://silverspringscommunity.ca/event/jazz-niks-big-band-preformance/
LOCATION:AB
END:VEVENT
BEGIN:VEVENT
DTSTART;TZID=America/Edmonton:20220601T090000
DTEND;TZID=America/Edmonton:20220601T160000
DTSTAMP:20260425T052312
CREATED:20220512T172754Z
LAST-MODIFIED:20220512T172754Z
UID:12788-1654074000-1654099200@silverspringscommunity.ca
SUMMARY:Private Pool Rental OPENS
DESCRIPTION:Starting at 9am\, call the Silver Springs office to book your private pool rental time. \n403-288-2616 \nRental rates: $150/hr for up to 40 people \nMore information
URL:https://silverspringscommunity.ca/event/private-pool-rental-opens/
LOCATION:AB
END:VEVENT
END:VCALENDAR