BEGIN:VCALENDAR
VERSION:2.0
PRODID:-//Silver Springs Community Association - ECPv6.15.20//NONSGML v1.0//EN
CALSCALE:GREGORIAN
METHOD:PUBLISH
X-WR-CALNAME:Silver Springs Community Association
X-ORIGINAL-URL:https://silverspringscommunity.ca
X-WR-CALDESC:Events for Silver Springs Community Association
REFRESH-INTERVAL;VALUE=DURATION:PT1H
X-Robots-Tag:noindex
X-PUBLISHED-TTL:PT1H
BEGIN:VTIMEZONE
TZID:America/Edmonton
BEGIN:DAYLIGHT
TZOFFSETFROM:-0700
TZOFFSETTO:-0600
TZNAME:MDT
DTSTART:20210314T090000
END:DAYLIGHT
BEGIN:STANDARD
TZOFFSETFROM:-0600
TZOFFSETTO:-0700
TZNAME:MST
DTSTART:20211107T080000
END:STANDARD
BEGIN:DAYLIGHT
TZOFFSETFROM:-0700
TZOFFSETTO:-0600
TZNAME:MDT
DTSTART:20220313T090000
END:DAYLIGHT
BEGIN:STANDARD
TZOFFSETFROM:-0600
TZOFFSETTO:-0700
TZNAME:MST
DTSTART:20221106T080000
END:STANDARD
BEGIN:DAYLIGHT
TZOFFSETFROM:-0700
TZOFFSETTO:-0600
TZNAME:MDT
DTSTART:20230312T090000
END:DAYLIGHT
BEGIN:STANDARD
TZOFFSETFROM:-0600
TZOFFSETTO:-0700
TZNAME:MST
DTSTART:20231105T080000
END:STANDARD
BEGIN:DAYLIGHT
TZOFFSETFROM:-0700
TZOFFSETTO:-0600
TZNAME:MDT
DTSTART:20240310T090000
END:DAYLIGHT
BEGIN:STANDARD
TZOFFSETFROM:-0600
TZOFFSETTO:-0700
TZNAME:MST
DTSTART:20241103T080000
END:STANDARD
END:VTIMEZONE
BEGIN:VEVENT
DTSTART;TZID=America/Edmonton:20231101T173000
DTEND;TZID=America/Edmonton:20231101T203000
DTSTAMP:20260425T053652
CREATED:20230813T045733Z
LAST-MODIFIED:20231004T164820Z
UID:14733-1698859800-1698870600@silverspringscommunity.ca
SUMMARY:The Silver Springs Pumpkin Walk
DESCRIPTION:Show us the pumpkins! Save the date! \nThe Silver Springs Community Association wants to see your gourd-geous work at the Silver Springs Pumpkin Walk. It’s an opportunity to show off your #squashgoals and costumes for another night and vote on your favourite jack-o-lanterns 🙂 \nThe Pumpkin Walk will be held from tentatively from 5:30 – 8:30pm on Wednesday Nov. 1\, 2023 in the ball diamond at the south entrance to the Botanical Gardens. \nPumpkins can be dropped off at the ball diamond between 4:30pm – 5:30pm. All pumpkins will be composted after the event by the Botanical Gardens volunteers. \nAre you interested in volunteering? Click here to sign up.
URL:https://silverspringscommunity.ca/event/the/
LOCATION:Botanical Gardens of Silver Springs\, 37 Silver Springs Drive NW\, Calgary
ORGANIZER;CN="SILVER SPRINGS COMMUNITY ASSOCIATION":MAILTO:programs@silverspringscommunity.ca
END:VEVENT
BEGIN:VEVENT
DTSTART;TZID=America/Edmonton:20231027T183000
DTEND;TZID=America/Edmonton:20231027T203000
DTSTAMP:20260425T053652
CREATED:20230811T231254Z
LAST-MODIFIED:20231027T153744Z
UID:14689-1698431400-1698438600@silverspringscommunity.ca
SUMMARY:*****SOLD OUT*****Jellybean Dance
DESCRIPTION:*SOLD OUT* \nYou won’t want to miss the return of this event on October 27 2023! The dance will start at 6:30 and end at 8:30pm. \n\n\n\nDance tickets are available online starting October 2 2023 at 9am. Tickets are $8 each. Parent volunteers are needed to run these dances – sign up here. \n  \n\n\n\n\nBuy Tickets Now\n \n \n\n\n\n\nJellybean dances are dances for grade 4\, 5 and 6 students involving a DJ\, light show\, games and door prizes. We offer a cash only concession at the dances. \nFuture Dances: \nFebruary 23\, 2024 – Tickets go on sale February 1 at 9am \nMay 24\, 2024 – Tickets go on sale May 1 at 9am
URL:https://silverspringscommunity.ca/event/jelly-bean-dance/
LOCATION:Silver Springs Community Center\, 5720 Silver Ridge Drive NW\, Calgary\, AB\, T3B 5E5\, Canada
ATTACH;FMTTYPE=image/png:https://silverspringscommunity.ca/wp-content/uploads/2023/08/DJ-logo-vinyl-retro-vintage-musical-labelline-vinyl-logo-Letter-1.png
ORGANIZER;CN="SILVER SPRINGS COMMUNITY ASSOCIATION":MAILTO:programs@silverspringscommunity.ca
END:VEVENT
BEGIN:VEVENT
DTSTART;TZID=America/Edmonton:20231018T103000
DTEND;TZID=America/Edmonton:20231018T113000
DTSTAMP:20260425T053652
CREATED:20231003T184255Z
LAST-MODIFIED:20231003T184255Z
UID:14899-1697625000-1697628600@silverspringscommunity.ca
SUMMARY:Drop In Play Time
DESCRIPTION:Come join us and meet other families in the community! We’ll have toys\, books and games. Recommended ages 0-5 years of age. All families welcome. $2 drop in fee or free with a SSCA membership. Questions? Email us at Events@SilverSpringsCommunity.ca
URL:https://silverspringscommunity.ca/event/drop-in-play-time/
LOCATION:Silver Springs Community Center\, 5720 Silver Ridge Drive NW\, Calgary\, AB\, T3B 5E5\, Canada
ATTACH;FMTTYPE=image/png:https://silverspringscommunity.ca/wp-content/uploads/2023/10/Drop-In-Play.png
ORGANIZER;CN="SILVER SPRINGS COMMUNITY ASSOCIATION":MAILTO:programs@silverspringscommunity.ca
END:VEVENT
BEGIN:VEVENT
DTSTART;TZID=America/Edmonton:20231016T100000
DTEND;TZID=America/Edmonton:20231106T170000
DTSTAMP:20260425T053652
CREATED:20231004T163259Z
LAST-MODIFIED:20231004T163417Z
UID:14914-1697450400-1699290000@silverspringscommunity.ca
SUMMARY:Let's Shed Light on Dementia
DESCRIPTION:The Silver Springs Community Association will being hosting a presentation by the Active Aging Seniors group on: \nOctober 16th at 10:30am  \nOctober 23rd at 10am  \nOctober 30th at 10am  \nNovember 6th at 10am \n  \nCost is $5 per household for all 4 sessions \nDrop in for $1 per each person (based on availability) \n  \nREGISTER NOW
URL:https://silverspringscommunity.ca/event/lets-shed-light-on-dementia/
LOCATION:Silver Springs Community Center\, 5720 Silver Ridge Drive NW\, Calgary\, AB\, T3B 5E5\, Canada
ORGANIZER;CN="SILVER SPRINGS COMMUNITY ASSOCIATION":MAILTO:programs@silverspringscommunity.ca
END:VEVENT
BEGIN:VEVENT
DTSTART;TZID=America/Edmonton:20231015T100000
DTEND;TZID=America/Edmonton:20231015T140000
DTSTAMP:20260425T053652
CREATED:20230813T045348Z
LAST-MODIFIED:20230911T185910Z
UID:14729-1697364000-1697378400@silverspringscommunity.ca
SUMMARY:Pumpkin Patch by Maria & Tim from RE/MAX
DESCRIPTION:Save the date! More details coming soon! \nMaria & Tim from RE/MAX Mountain View are bringing the pumpkin patch to Silver Springs Community Association! \nCome down to the community center October 15th 2023 and select your complimentary pumpkin from the patch. \nLast year was a complete success and we are thrilled to have Maria\, Tim and the patch return.
URL:https://silverspringscommunity.ca/event/pumpkin-patch-by-maria-tim-from-re-max/
LOCATION:SSCA Parking Lot\, 5720 Silver Ridge Drive NW
END:VEVENT
BEGIN:VEVENT
DTSTART;TZID=America/Edmonton:20230911T100000
DTEND;TZID=America/Edmonton:20230911T110000
DTSTAMP:20260425T053652
CREATED:20230902T232121Z
LAST-MODIFIED:20230902T232121Z
UID:14777-1694426400-1694430000@silverspringscommunity.ca
SUMMARY:Energy Efficient Future
DESCRIPTION:RSVP Here: https://registrationsystem.strategicconsultinggroup.ca/silversprings/signup/seniors
URL:https://silverspringscommunity.ca/event/energy-efficient-future/
LOCATION:Silver Springs Community Center\, 5720 Silver Ridge Drive NW\, Calgary\, AB\, T3B 5E5\, Canada
ATTACH;FMTTYPE=image/png:https://silverspringscommunity.ca/wp-content/uploads/2023/09/September-11-2023-1000-1100am-SSCA-5720-Silver-Ridge-Dr.png
ORGANIZER;CN="SILVER SPRINGS COMMUNITY ASSOCIATION":MAILTO:programs@silverspringscommunity.ca
END:VEVENT
BEGIN:VEVENT
DTSTART;TZID=America/Edmonton:20230909T080000
DTEND;TZID=America/Edmonton:20230910T170000
DTSTAMP:20260425T053652
CREATED:20230731T222405Z
LAST-MODIFIED:20230731T222405Z
UID:14647-1694246400-1694365200@silverspringscommunity.ca
SUMMARY:Curbside Treasure Hunt
DESCRIPTION:Join the Curbside Community Treasure Hunt!\nDiscover hidden treasures in your neighbourhood and give unused items a new life while keeping them out of landfills. The ultimate treasure hunt is happening on September 9 and 10\, 2023\, and we want you to be part of it! \nHere’s how to join the fun: \n\nGather reusable items you no longer need from your home—books\, electronics\, toys\, kitchen gadgets\, and more.\nMark them with a “Free” label and place them on your property next to the sidewalk or curb during the event days.\nAnyone can pick up these items for use—it’s like a free garage sale at your doorstep!\nRemove items not picked up by 5:00 pm Sunday and donate them to local charitable organizations.\n\nRules of Participation: \n\nOnly items labelled as “free” are part of the event. Make your sign or download our template to join in.\nKeep sidewalks and fire hydrants clear\, obey traffic laws\, and be considerate of others.\nRemember not to share unsafe or dangerous items like mattresses\, toilets or certain infant and safety equipment. Visit Guide to second-hand products (including children’s products) – Summary – Canada.ca\n\nLet’s keep our community tidy and avoid cluttering public spaces. Remove all items after the event. \nGet ready to give and receive within your community! Let’s make this year’s event successful by reducing waste and finding hidden treasures. Happy hunting! \nFor further details and updates\, visit calgary.ca/treasurehunt
URL:https://silverspringscommunity.ca/event/curbside-treasure-hunt/
END:VEVENT
BEGIN:VEVENT
DTSTART;TZID=America/Edmonton:20230901T090000
DTEND;TZID=America/Edmonton:20230916T170000
DTSTAMP:20260425T053652
CREATED:20230731T221942Z
LAST-MODIFIED:20230731T222150Z
UID:14642-1693558800-1694883600@silverspringscommunity.ca
SUMMARY:Fall Fitness and Line Dance Registration Opens at 9am
DESCRIPTION:Our fall fitness programs and line dance programs open for registration on September 1st at 9am. \nFor program details\, please visit here. \n 
URL:https://silverspringscommunity.ca/event/fall-fitness-and-line-dance-registration-opens-at-9am/
ATTACH;FMTTYPE=image/jpeg:https://silverspringscommunity.ca/wp-content/uploads/2021/03/Fitness-1.jpg
END:VEVENT
BEGIN:VEVENT
DTSTART;TZID=America/Edmonton:20230827T080000
DTEND;TZID=America/Edmonton:20230828T170000
DTSTAMP:20260425T053652
CREATED:20230509T151338Z
LAST-MODIFIED:20230509T152240Z
UID:14251-1693123200-1693242000@silverspringscommunity.ca
SUMMARY:Casino
DESCRIPTION:Please consider volunteering for our biggest fundraising event of the year! No previous experience needed and all volunteers will receive a complimentary meal. We have day and evening shifts available.  To view all shifts and positions available for sign up\, click here. \n 
URL:https://silverspringscommunity.ca/event/casino/
LOCATION:Elbow River Casino\, 218 18 Ave SE\, Calgary\, AB\, T2G 1L1\, Canada
ATTACH;FMTTYPE=image/jpeg:https://silverspringscommunity.ca/wp-content/uploads/2022/02/Casino.jpg
ORGANIZER;CN="SILVER SPRINGS COMMUNITY ASSOCIATION":MAILTO:programs@silverspringscommunity.ca
END:VEVENT
BEGIN:VEVENT
DTSTART;TZID=America/Edmonton:20230819T130000
DTEND;TZID=America/Edmonton:20230819T170000
DTSTAMP:20260425T053652
CREATED:20230731T222706Z
LAST-MODIFIED:20230811T230835Z
UID:14649-1692450000-1692464400@silverspringscommunity.ca
SUMMARY:Champion's Creed - Silver Springs Grand Opening Celebration
DESCRIPTION:
URL:https://silverspringscommunity.ca/event/champions-creed-silver-springs-grand-opening-celebration/
LOCATION:Champions Creed 5720 Silver Springs BLVD\, 5720 Silver Springs Blvd (back of strip mall)
END:VEVENT
BEGIN:VEVENT
DTSTART;TZID=America/Edmonton:20230815T090000
DTEND;TZID=America/Edmonton:20230906T170000
DTSTAMP:20260425T053652
CREATED:20230731T221704Z
LAST-MODIFIED:20230813T050510Z
UID:14640-1692090000-1694019600@silverspringscommunity.ca
SUMMARY:Dance Foundations Registration Opens August 15th at 9am
DESCRIPTION:  \nClick here for program details and registration
URL:https://silverspringscommunity.ca/event/dance-foundations-registration-opens-august-15th-at-9am/
LOCATION:Silver Springs Community Center\, 5720 Silver Ridge Drive NW\, Calgary\, AB\, T3B 5E5\, Canada
ATTACH;FMTTYPE=image/png:https://silverspringscommunity.ca/wp-content/uploads/2022/10/1-e1672617996988.png
ORGANIZER;CN="SILVER SPRINGS COMMUNITY ASSOCIATION":MAILTO:programs@silverspringscommunity.ca
END:VEVENT
BEGIN:VEVENT
DTSTART;VALUE=DATE:20230801
DTEND;VALUE=DATE:20231001
DTSTAMP:20260425T053652
CREATED:20230706T223042Z
LAST-MODIFIED:20230801T145342Z
UID:14564-1690848000-1696118399@silverspringscommunity.ca
SUMMARY:Vendor Applications Open - Christmas Craft Market
DESCRIPTION:Calling all vendors! Applications are open online for our Christmas Craft Market – apply now! \nOur craft market is returning this fall! Please take a moment and read over the information below. What to know prior to applying \n\nOn August 1st 2023 at 9am\, applications will be accepted online only. Please fill out our form and include pictures of your work. Category options include – Cards\, Knitting/Crochet\, Woodwork\, Quilting/Sewing\, Paintings/Prints/Photos\, Home Decor\, Books\, Christmas Ornaments/Decor\, Jewelry\, Pottery\, Miscellaneous.\nIt is free to apply.\nYou will be contacted within 3 business days confirming registration. If we are full for the type of product you are selling\, we will add you to our wait list.\n\nFAQ \n\n\n\nWhen is the market? November 18 2023 10am to 3pm\nHow much is it to register? $45 for (1) six foot table. Some table assignments can handle free standing racks. If you would like to bring a free standing rack\, the charge will be $20.\nCan I register over the phone or in person? No\, all registration must be completed online through our website.\nAm I able to have the same table I had last year?  You can request a preferred location and we will do our best to accommodate.\nI am no longer able to participate in the Craft Market\, am I able to receive a refund? We can refund registration until October 1 2023. These refunds will be subject to an administrative fee of 20%. No refunds after October 1 2023.\nCan my friend and I share a 6 foot table? Yes\, however please remember you cannot obstruct other’s tables and must have your products on your table.  You cannot obstruct other tables or the flow of traffic.\nCan I sell my home business products (e.g. Scentsy\, Norwex\, Candlelit\, etc.)? No\, this Craft Market is only for handmade/homemade goods that are made by the vendors themselves.\n\n\n\n 
URL:https://silverspringscommunity.ca/event/vendor-applications-open-christmas-craft-market/
LOCATION:Silver Springs Community Center\, 5720 Silver Ridge Drive NW\, Calgary\, AB\, T3B 5E5\, Canada
ATTACH;FMTTYPE=image/png:https://silverspringscommunity.ca/wp-content/uploads/2023/07/Christmas-craft-market.png
ORGANIZER;CN="SILVER SPRINGS COMMUNITY ASSOCIATION":MAILTO:programs@silverspringscommunity.ca
END:VEVENT
BEGIN:VEVENT
DTSTART;TZID=America/Edmonton:20230630T183000
DTEND;TZID=America/Edmonton:20230630T203000
DTSTAMP:20260425T053652
CREATED:20230613T151249Z
LAST-MODIFIED:20230613T151252Z
UID:14472-1688149800-1688157000@silverspringscommunity.ca
SUMMARY:Parks 4 Paws Foundation "Is it playing or fighting?"
DESCRIPTION:Our friends from Parks 4 Paws are hosting an educational session with dog trainer Olivia Passolli on June 30th at 6:30pm. For registration\, please contact the group at parks4paws.yyc@gmail.com
URL:https://silverspringscommunity.ca/event/parks-4-paws-foundation-is-it-playing-or-fighting/
LOCATION:Silver Springs Community Center\, 5720 Silver Ridge Drive NW\, Calgary\, AB\, T3B 5E5\, Canada
ORGANIZER;CN="Parks 4 Paws":MAILTO:parks4paws.yyc@gmail.com
END:VEVENT
BEGIN:VEVENT
DTSTART;TZID=America/Edmonton:20230621T193000
DTEND;TZID=America/Edmonton:20230621T210000
DTSTAMP:20260425T053652
CREATED:20230530T013727Z
LAST-MODIFIED:20230530T013939Z
UID:14310-1687375800-1687381200@silverspringscommunity.ca
SUMMARY:Edible Garden - Pruning Grape Vines and Care of Perennials
DESCRIPTION:Join us at the Edible Garden in Silver Springs with speaker Elaine Rude. Free admission\, pre registration is required. Sign up here. 
URL:https://silverspringscommunity.ca/event/edible-garden-pruning-grape-vines-and-care-of-perennials/
LOCATION:Edible Garden of Silver Springs
ORGANIZER;CN="SILVER SPRINGS COMMUNITY ASSOCIATION":MAILTO:programs@silverspringscommunity.ca
END:VEVENT
BEGIN:VEVENT
DTSTART;TZID=America/Edmonton:20230620T190000
DTEND;TZID=America/Edmonton:20230620T200000
DTSTAMP:20260425T053652
CREATED:20230531T193113Z
LAST-MODIFIED:20230531T193254Z
UID:14323-1687287600-1687291200@silverspringscommunity.ca
SUMMARY:Foot care and Foot Health Workshop
DESCRIPTION:Join Shannon Adams\, a Registered Nurse in Advanced Foot Care. She will discuss what one should expect from an Advanced Foot Care Nurse and how it differs from a salon pedicure. She will review some common foot and lower limb issues seen in older adults and expand on the causes and management of those. Free admission\, pre registration is required. 
URL:https://silverspringscommunity.ca/event/foot-care-and-foot-health-workshop/
LOCATION:Silver Springs Community Center\, 5720 Silver Ridge Drive NW\, Calgary\, AB\, T3B 5E5\, Canada
ORGANIZER;CN="SILVER SPRINGS COMMUNITY ASSOCIATION":MAILTO:programs@silverspringscommunity.ca
END:VEVENT
BEGIN:VEVENT
DTSTART;TZID=America/Edmonton:20230620T183000
DTEND;TZID=America/Edmonton:20230620T193000
DTSTAMP:20260425T053652
CREATED:20230611T060738Z
LAST-MODIFIED:20230611T060738Z
UID:14397-1687285800-1687289400@silverspringscommunity.ca
SUMMARY:Yoga in the Park
DESCRIPTION:Free community yoga – Tuesday evenings this summer. Come out and enjoy the sunshine and nature in the Botanical Gardens. Thank you Melcor YMCA instructors for bringing this opportunity to our neighborhood again this year \n.
URL:https://silverspringscommunity.ca/event/yoga-in-the-park-2/
LOCATION:Botanical Gardens of Silver Springs\, 37 Silver Springs Drive NW\, Calgary
END:VEVENT
BEGIN:VEVENT
DTSTART;TZID=America/Edmonton:20230617T120000
DTEND;TZID=America/Edmonton:20230617T150000
DTSTAMP:20260425T053652
CREATED:20230418T200107Z
LAST-MODIFIED:20230611T060420Z
UID:14090-1687003200-1687014000@silverspringscommunity.ca
SUMMARY:Hello Summer BBQ
DESCRIPTION:Silver Springs community family BBQ is held annual in June\, our community BBQ helps strengthen community spirit\, encourages residents to meet new neighbours and to get involved. Join us at our yearly BBQ; hot dogs\, hamburgers and all the fixings! Games and fun for the whole family. The event will run from 12-3pm\, with last call for food at 2:30pm. Bring your lawn chair and join us! \nVolunteers Needed! Sign up here. \nThank you to our sponsors! \nSilver Springs Automotive  \nBow Cycle \nFor entertainment we will have a 70 foot obstacle course\, a soft play area for our smallest guests\, face painting\, magician\, activity tables and of course a petting zoo from Butterfield Acres. Bow Cycle will also be onsite to do minor tune ups to get your bike summer ready!
URL:https://silverspringscommunity.ca/event/hello-summer-bbq/
LOCATION:SSCA Parking Lot\, 5720 Silver Ridge Drive NW
ATTACH;FMTTYPE=image/png:https://silverspringscommunity.ca/wp-content/uploads/2023/04/Family-BBQ-June-17-2023-12-3pm-e1705628441372.png
ORGANIZER;CN="SILVER SPRINGS COMMUNITY ASSOCIATION":MAILTO:programs@silverspringscommunity.ca
END:VEVENT
BEGIN:VEVENT
DTSTART;TZID=America/Edmonton:20230603T140000
DTEND;TZID=America/Edmonton:20230603T163000
DTSTAMP:20260425T053652
CREATED:20230531T191346Z
LAST-MODIFIED:20230531T191346Z
UID:14317-1685800800-1685809800@silverspringscommunity.ca
SUMMARY:Jazz-niks Big Band Concert at the Botanical Gardens
DESCRIPTION:
URL:https://silverspringscommunity.ca/event/jazz-niks-big-band-concert-at-the-botanical-gardens/
LOCATION:Botanical Gardens of Silver Springs\, 37 Silver Springs Drive NW\, Calgary
END:VEVENT
BEGIN:VEVENT
DTSTART;TZID=America/Edmonton:20230527T090000
DTEND;TZID=America/Edmonton:20230527T160000
DTSTAMP:20260425T053652
CREATED:20230102T022414Z
LAST-MODIFIED:20230525T183545Z
UID:13696-1685178000-1685203200@silverspringscommunity.ca
SUMMARY:Parade of Garage Sales
DESCRIPTION:View the map and full address list \nFull Details
URL:https://silverspringscommunity.ca/event/parade-of-garage-sales/
ORGANIZER;CN="Team Leesman":MAILTO:teamleesmanCARES@c21.ca
END:VEVENT
BEGIN:VEVENT
DTSTART;TZID=America/Edmonton:20230517T193000
DTEND;TZID=America/Edmonton:20230517T203000
DTSTAMP:20260425T053652
CREATED:20230322T165044Z
LAST-MODIFIED:20230322T165044Z
UID:14007-1684351800-1684355400@silverspringscommunity.ca
SUMMARY:Therapeutic Gardening
DESCRIPTION:Location: In the Silver Springs Edible Garden (backup if inclement weather: SSCA Board Room)
URL:https://silverspringscommunity.ca/event/therapeutic-gardening/
END:VEVENT
BEGIN:VEVENT
DTSTART;TZID=America/Edmonton:20230513T100000
DTEND;TZID=America/Edmonton:20230513T120000
DTSTAMP:20260425T053652
CREATED:20230421T165416Z
LAST-MODIFIED:20230509T145015Z
UID:14124-1683972000-1683979200@silverspringscommunity.ca
SUMMARY:Clean the Community
DESCRIPTION:Who’s up for a walk on May 13th? Spend time with your friends and neighbours and help keep our community litter free at the same time! Snacks and refreshments will be provided after the event. All ages welcome! Sign up early for the first choice of location. Bags and gloves will be provided. \nSign up to volunteer! 
URL:https://silverspringscommunity.ca/event/clean-the-community-may-13/
ATTACH;FMTTYPE=image/png:https://silverspringscommunity.ca/wp-content/uploads/2023/04/Not-to-be-confused-with-our-community-clean-up-event-1-e1682447930753.png
END:VEVENT
BEGIN:VEVENT
DTSTART;TZID=America/Edmonton:20230512T183000
DTEND;TZID=America/Edmonton:20230512T210000
DTSTAMP:20260425T053652
CREATED:20230331T205331Z
LAST-MODIFIED:20230412T153210Z
UID:14028-1683916200-1683925200@silverspringscommunity.ca
SUMMARY:Jellybean Dance
DESCRIPTION:You won’t want to miss the return of this event on May 12 2023!\n\n \n\nDance tickets are available online starting April 12 2023 at 10am. Tickets are $8 each. Parent volunteers are needed to run these dances. Please email administration@silverspringscommunity.ca to sign up.\n\n \n\nBuy Tickets Now\n\n \n\nJellybean dances are dances for grade 4\, 5 and 6 students involving a DJ\, light show\, games and door\nprizes. We offer a concession at the dances.
URL:https://silverspringscommunity.ca/event/jellybean-dance-3/
END:VEVENT
BEGIN:VEVENT
DTSTART;TZID=America/Edmonton:20230422T100000
DTEND;TZID=America/Edmonton:20230422T150000
DTSTAMP:20260425T053652
CREATED:20230318T004447Z
LAST-MODIFIED:20230318T004447Z
UID:13976-1682157600-1682175600@silverspringscommunity.ca
SUMMARY:Bow West Art Show
DESCRIPTION:
URL:https://silverspringscommunity.ca/event/bow-west-art-show/
LOCATION:SSCA Sunset Room\, 5720 Silver Ridge Drive NW\, Calgary
ORGANIZER;CN="SILVER SPRINGS COMMUNITY ASSOCIATION":MAILTO:programs@silverspringscommunity.ca
END:VEVENT
BEGIN:VEVENT
DTSTART;TZID=America/Edmonton:20230330T193000
DTEND;TZID=America/Edmonton:20230330T213000
DTSTAMP:20260425T053652
CREATED:20230322T164754Z
LAST-MODIFIED:20230322T164759Z
UID:14005-1680204600-1680211800@silverspringscommunity.ca
SUMMARY:Growing Annual Flowers
DESCRIPTION:Tips and tricks for successful seed germination. Location: SSCA Board Room
URL:https://silverspringscommunity.ca/event/growing-annual-flowers/
END:VEVENT
BEGIN:VEVENT
DTSTART;TZID=America/Edmonton:20230210T183000
DTEND;TZID=America/Edmonton:20230210T210000
DTSTAMP:20260425T053652
CREATED:20230102T003645Z
LAST-MODIFIED:20230102T021743Z
UID:13689-1676053800-1676062800@silverspringscommunity.ca
SUMMARY:Jellybean Dance
DESCRIPTION:
URL:https://silverspringscommunity.ca/event/jellybean-dance-2/
LOCATION:SSCA Sunset Room\, 5720 Silver Ridge Drive NW\, Calgary
ORGANIZER;CN="SILVER SPRINGS COMMUNITY ASSOCIATION":MAILTO:programs@silverspringscommunity.ca
END:VEVENT
BEGIN:VEVENT
DTSTART;TZID=America/Edmonton:20230121T120000
DTEND;TZID=America/Edmonton:20230121T150000
DTSTAMP:20260425T053652
CREATED:20221220T045115Z
LAST-MODIFIED:20221220T045115Z
UID:13670-1674302400-1674313200@silverspringscommunity.ca
SUMMARY:Lego Competition
DESCRIPTION:For full details\, visit our Lego competition main page here 
URL:https://silverspringscommunity.ca/event/lego-competition-2/
END:VEVENT
BEGIN:VEVENT
DTSTART;TZID=America/Edmonton:20230112T183000
DTEND;TZID=America/Edmonton:20230112T200000
DTSTAMP:20260425T053652
CREATED:20221220T044543Z
LAST-MODIFIED:20221220T044543Z
UID:13666-1673548200-1673553600@silverspringscommunity.ca
SUMMARY:Silver Springs Preschool Open House
DESCRIPTION:
URL:https://silverspringscommunity.ca/event/silver-springs-preschool-open-house/
ORGANIZER;CN="SILVER SPRINGS COMMUNITY ASSOCIATION":MAILTO:programs@silverspringscommunity.ca
END:VEVENT
BEGIN:VEVENT
DTSTART;TZID=America/Edmonton:20221217T120000
DTEND;TZID=America/Edmonton:20221217T150000
DTSTAMP:20260425T053652
CREATED:20220303T212905Z
LAST-MODIFIED:20221107T214146Z
UID:12483-1671278400-1671289200@silverspringscommunity.ca
SUMMARY:Winter Celebration
DESCRIPTION:Join us for a free\, fun\, family Christmas Celebration. \nSkating\, hot chocolate\, visit with Santa\, wagon ride\, fun and games! \nSaturday\, December 17 from 12 – 3pm \nVolunteers needed!
URL:https://silverspringscommunity.ca/event/winter-celebration-2/
END:VEVENT
BEGIN:VEVENT
DTSTART;TZID=America/Edmonton:20221119T100000
DTEND;TZID=America/Edmonton:20221119T150000
DTSTAMP:20260425T053652
CREATED:20220303T211159Z
LAST-MODIFIED:20220303T211159Z
UID:12475-1668852000-1668870000@silverspringscommunity.ca
SUMMARY:Crafter's Market
DESCRIPTION:Come by and find unique\, handcrafted items! Sale runs 10am – 3pm. \nKnitting\, wood working\, cutting boards\, felting\, jewelry\, Christmas sewing and crafts\, essential oil products\, bath bombs\,  rock based jewelry and home decor\, greeting cards\, shadow box art\, and lots of other handcrafted items. \nFree admission to shop\, but we encourage everyone to bring a non-perishable food item to donate to the food bank. \nAre you a Crafter?  Anyone wanting to book a table for the market can register online starting September 1st!  Only handmade items please. NO food items \n 
URL:https://silverspringscommunity.ca/event/crafters-market/
END:VEVENT
BEGIN:VEVENT
DTSTART;TZID=America/Edmonton:20221116T130000
DTEND;TZID=America/Edmonton:20221116T150000
DTSTAMP:20260425T053652
CREATED:20221019T181042Z
LAST-MODIFIED:20221019T181045Z
UID:13390-1668603600-1668610800@silverspringscommunity.ca
SUMMARY:Year of the Garden-Fall & Winter Interest
DESCRIPTION:Botanical Gardens: LoH20 Garden \nYear of the Garden winter interest poster (2)
URL:https://silverspringscommunity.ca/event/year-of-the-garden-fall-winter-interest/
END:VEVENT
END:VCALENDAR