BEGIN:VCALENDAR
VERSION:2.0
PRODID:-//Silver Springs Community Association - ECPv6.15.20//NONSGML v1.0//EN
CALSCALE:GREGORIAN
METHOD:PUBLISH
X-WR-CALNAME:Silver Springs Community Association
X-ORIGINAL-URL:https://silverspringscommunity.ca
X-WR-CALDESC:Events for Silver Springs Community Association
REFRESH-INTERVAL;VALUE=DURATION:PT1H
X-Robots-Tag:noindex
X-PUBLISHED-TTL:PT1H
BEGIN:VTIMEZONE
TZID:America/Edmonton
BEGIN:DAYLIGHT
TZOFFSETFROM:-0700
TZOFFSETTO:-0600
TZNAME:MDT
DTSTART:20200308T090000
END:DAYLIGHT
BEGIN:STANDARD
TZOFFSETFROM:-0600
TZOFFSETTO:-0700
TZNAME:MST
DTSTART:20201101T080000
END:STANDARD
BEGIN:DAYLIGHT
TZOFFSETFROM:-0700
TZOFFSETTO:-0600
TZNAME:MDT
DTSTART:20210314T090000
END:DAYLIGHT
BEGIN:STANDARD
TZOFFSETFROM:-0600
TZOFFSETTO:-0700
TZNAME:MST
DTSTART:20211107T080000
END:STANDARD
BEGIN:DAYLIGHT
TZOFFSETFROM:-0700
TZOFFSETTO:-0600
TZNAME:MDT
DTSTART:20220313T090000
END:DAYLIGHT
BEGIN:STANDARD
TZOFFSETFROM:-0600
TZOFFSETTO:-0700
TZNAME:MST
DTSTART:20221106T080000
END:STANDARD
END:VTIMEZONE
BEGIN:VEVENT
DTSTART;TZID=America/Edmonton:20210618T180000
DTEND;TZID=America/Edmonton:20210618T200000
DTSTAMP:20260425T052312
CREATED:20210517T174305Z
LAST-MODIFIED:20210517T174720Z
UID:11489-1624039200-1624046400@silverspringscommunity.ca
SUMMARY:Red Cross Babysitter Program PART 1
DESCRIPTION:Red Cross Babysitter Program (11 – 15yrs)   Part 1\nThis Babysitting course teaches 11-15 year olds to confidently handle the responsibilities of being a babysitter.  They will learn first aid safety tips\, injury prevention and first aid as well as be introduced to CPR.  They will learn to care for children of all ages as well as diaper and feed babies and some basic business skills.  All of this will be taught in a fun and interactive environment. The course is taught by an experienced first aid instructor. \n Date: June 18 (6-8pm) and June 19 (12:30 – 4:30pm) (attendance at both is required to complete course) \nCost: $70/participant (includes course booklet and certificate) \nRegister Here \n*minimum of 6 registrants required to run the course
URL:https://silverspringscommunity.ca/event/red-cross-babysitter-program/
END:VEVENT
BEGIN:VEVENT
DTSTART;TZID=America/Edmonton:20210616T193000
DTEND;TZID=America/Edmonton:20210616T213000
DTSTAMP:20260425T052312
CREATED:20210305T234000Z
LAST-MODIFIED:20210305T234000Z
UID:10898-1623871800-1623879000@silverspringscommunity.ca
SUMMARY:How Naturalization Promotes Biodiversity & Ecosystem Health – Garden Speaker Series #4
DESCRIPTION:This event will be delivered online using Zoom video conferencing. Participants will be able to see and speak to the instructor and classmates\, making it an interactive experience\, almost like being in the same room! \nTo participate\, registrants need a computer or tablet with speakers and an internet connection.  A device camera is optional. Further instructions and log in information will be provided to registrants the week of the event.  Further details and a link to attend the Zoom presentation will be provided prior to the class. \nPlease note: Fees paid for talks\, courses and workshops are non-refundable.  The EGG reserves the right to cancel a talk\, course or workshop due to low registration or instructor conflict.  In the event of a cancellation\, registrants will be reimbursed. \nRegister at: https://registrationsystem.strategicconsultinggroup.ca/silversprings/signup
URL:https://silverspringscommunity.ca/event/how-naturalization-promotes-biodiversity-ecosystem-health-garden-speaker-series-4/
END:VEVENT
BEGIN:VEVENT
DTSTART;TZID=America/Edmonton:20210613T080000
DTEND;TZID=America/Edmonton:20210613T163000
DTSTAMP:20260425T052312
CREATED:20210607T174111Z
LAST-MODIFIED:20210607T174111Z
UID:11553-1623571200-1623601800@silverspringscommunity.ca
SUMMARY:Pump Track- Build Days
DESCRIPTION:VOLUNTEERS: SIGNUP for BUILD DAYS!!! \n(Lower Parking Lot) \nVolunteer here
URL:https://silverspringscommunity.ca/event/pump-track-build-days-2/
END:VEVENT
BEGIN:VEVENT
DTSTART;TZID=America/Edmonton:20210612T083000
DTEND;TZID=America/Edmonton:20210612T160000
DTSTAMP:20260425T052312
CREATED:20210607T174029Z
LAST-MODIFIED:20210607T174029Z
UID:11235-1623486600-1623513600@silverspringscommunity.ca
SUMMARY:Pump Track  Build Days
DESCRIPTION:VOLUNTEERS: SIGNUP for BUILD DAYS!!! \n(Lower Parking Lot) \nVolunteer here
URL:https://silverspringscommunity.ca/event/pump-track-build-days/
END:VEVENT
BEGIN:VEVENT
DTSTART;TZID=America/Edmonton:20210523T090000
DTEND;TZID=America/Edmonton:20210523T140000
DTSTAMP:20260425T052312
CREATED:20210316T162914Z
LAST-MODIFIED:20210517T173648Z
UID:11030-1621760400-1621778400@silverspringscommunity.ca
SUMMARY:Community Clean-Up
DESCRIPTION:Community Clean-Up \n9am – 2pm \nSilver Springs Clean Up is a COVID Compliant event: volunteers and participants must wear masks\, sanitizing stations will be set up\, volunteers will be mindful of maintaining 2m of distance. \nVolunteer Needed  \n(jobs will involve heavy lifting) \nPlease note for proper traffic flow\, enter the parking lot from Silver Ridge Drive coming down the hill from Silver Springs Boulevard (right hand turn only into the parking lot!). \nITEMS ACCEPTED: \n\nOrganic and Yard Waste (City is providing a separate truck for this)\nHousehold garbage – anything that you don’t want to recycle\n\nITEMS FOR RECYCLING: \n\nElectronics (Technotrash Alberta)\nMetal Recycling (Bow West Appliances)\n\nITEMS NOT ACCEPTED: (these items can be taken to your local firehall or landfill) \n\nHazardous Waste or chemicals\nPaint\nTires\nCar Batteries
URL:https://silverspringscommunity.ca/event/community-clean-up/
END:VEVENT
BEGIN:VEVENT
DTSTART;TZID=America/Edmonton:20210519T193000
DTEND;TZID=America/Edmonton:20210519T213000
DTSTAMP:20260425T052312
CREATED:20210305T233932Z
LAST-MODIFIED:20210305T233932Z
UID:10896-1621452600-1621459800@silverspringscommunity.ca
SUMMARY:Fermented Foods 101: Sauerkraut & Pickling Vegetables the Probiotic Way – Garden Speaker Series #3
DESCRIPTION:This event will be delivered online using Zoom video conferencing. Participants will be able to see and speak to the instructor and classmates\, making it an interactive experience\, almost like being in the same room! \nTo participate\, registrants need a computer or tablet with speakers and an internet connection.  A device camera is optional. Further instructions and log in information will be provided to registrants the week of the event.  Further details and a link to attend the Zoom presentation will be provided prior to the class. \nPlease note: Fees paid for talks\, courses and workshops are non-refundable.  The EGG reserves the right to cancel a talk\, course or workshop due to low registration or instructor conflict.  In the event of a cancellation\, registrants will be reimbursed. \nRegister at: https://registrationsystem.strategicconsultinggroup.ca/silversprings/signup
URL:https://silverspringscommunity.ca/event/fermented-foods-101-sauerkraut-pickling-vegetables-the-probiotic-way-garden-speaker-series-3/
END:VEVENT
BEGIN:VEVENT
DTSTART;TZID=America/Edmonton:20210421T193000
DTEND;TZID=America/Edmonton:20210421T213000
DTSTAMP:20260425T052312
CREATED:20210305T233626Z
LAST-MODIFIED:20210305T233921Z
UID:10893-1619033400-1619040600@silverspringscommunity.ca
SUMMARY:All About Bees – Garden Speaker Series #2
DESCRIPTION:This event will be delivered online using Zoom video conferencing. Participants will be able to see and speak to the instructor and classmates\, making it an interactive experience\, almost like being in the same room! \nTo participate\, registrants need a computer or tablet with speakers and an internet connection.  A device camera is optional. Further instructions and log in information will be provided to registrants the week of the event.  Further details and a link to attend the Zoom presentation will be provided prior to the class. \nPlease note: Fees paid for talks\, courses and workshops are non-refundable.  The EGG reserves the right to cancel a talk\, course or workshop due to low registration or instructor conflict.  In the event of a cancellation\, registrants will be reimbursed. \nRegister at: https://registrationsystem.strategicconsultinggroup.ca/silversprings/signup
URL:https://silverspringscommunity.ca/event/all-about-bees-garden-speaker-series-1/
END:VEVENT
BEGIN:VEVENT
DTSTART;TZID=America/Edmonton:20210317T193000
DTEND;TZID=America/Edmonton:20210317T213000
DTSTAMP:20260425T052312
CREATED:20210305T233505Z
LAST-MODIFIED:20210311T224944Z
UID:10890-1616009400-1616016600@silverspringscommunity.ca
SUMMARY:The Fine Art of Deadheading - Garden Speaker Series #1
DESCRIPTION:This event will be delivered online using Zoom video conferencing. Participants will be able to see and speak to the instructor and classmates\, making it an interactive experience\, almost like being in the same room! \nTo participate\, registrants need a computer or tablet with speakers and an internet connection.  A device camera is optional. Further instructions and log in information will be provided to registrants the week of the event.  Further details and a link to attend the Zoom presentation will be provided prior to the class. \nPlease note: Fees paid for talks\, courses and workshops are non-refundable.  The EGG reserves the right to cancel a talk\, course or workshop due to low registration or instructor conflict.  In the event of a cancellation\, registrants will be reimbursed. \nRegister at: https://registrationsystem.strategicconsultinggroup.ca/silversprings/signup
URL:https://silverspringscommunity.ca/event/the-fine-art-of-deadheading-garden-speaker-series-1/
END:VEVENT
END:VCALENDAR