BEGIN:VCALENDAR
VERSION:2.0
PRODID:-//Silver Springs Community Association - ECPv6.15.20//NONSGML v1.0//EN
CALSCALE:GREGORIAN
METHOD:PUBLISH
X-ORIGINAL-URL:https://silverspringscommunity.ca
X-WR-CALDESC:Events for Silver Springs Community Association
REFRESH-INTERVAL;VALUE=DURATION:PT1H
X-Robots-Tag:noindex
X-PUBLISHED-TTL:PT1H
BEGIN:VTIMEZONE
TZID:America/Edmonton
BEGIN:DAYLIGHT
TZOFFSETFROM:-0700
TZOFFSETTO:-0600
TZNAME:MDT
DTSTART:20240310T090000
END:DAYLIGHT
BEGIN:STANDARD
TZOFFSETFROM:-0600
TZOFFSETTO:-0700
TZNAME:MST
DTSTART:20241103T080000
END:STANDARD
BEGIN:DAYLIGHT
TZOFFSETFROM:-0700
TZOFFSETTO:-0600
TZNAME:MDT
DTSTART:20250309T090000
END:DAYLIGHT
BEGIN:STANDARD
TZOFFSETFROM:-0600
TZOFFSETTO:-0700
TZNAME:MST
DTSTART:20251102T080000
END:STANDARD
BEGIN:DAYLIGHT
TZOFFSETFROM:-0700
TZOFFSETTO:-0600
TZNAME:MDT
DTSTART:20260308T090000
END:DAYLIGHT
BEGIN:STANDARD
TZOFFSETFROM:-0600
TZOFFSETTO:-0700
TZNAME:MST
DTSTART:20261101T080000
END:STANDARD
BEGIN:DAYLIGHT
TZOFFSETFROM:-0700
TZOFFSETTO:-0600
TZNAME:MDT
DTSTART:20270314T090000
END:DAYLIGHT
BEGIN:STANDARD
TZOFFSETFROM:-0600
TZOFFSETTO:-0700
TZNAME:MST
DTSTART:20271107T080000
END:STANDARD
END:VTIMEZONE
BEGIN:VEVENT
DTSTART;TZID=America/Edmonton:20250906T120000
DTEND;TZID=America/Edmonton:20250906T150000
DTSTAMP:20260424T052813
CREATED:20250110T232405Z
LAST-MODIFIED:20250718T173521Z
UID:18385-1757160000-1757170800@silverspringscommunity.ca
SUMMARY:Hello Summer
DESCRIPTION:Join us Saturday September 6 12pm – 3pm for our community BBQ! Bring a picnic blanket or lawn chair. Parking is extremely limited\, consider walking or biking to the BBQ.  \nActivities will include: \n\nButterfield Acres petting zoo\nFitset Ninja Mobile Obstacle Course\nSoft Play Area for under 5 years old\nMusic\nBow Cycle will offer free assessments and free minor adjustments. *They will have air for tires. Part availability very limited (mainly tubes and cables/housin). Please note they cannot do tune ups due to time constraints.*\n\nBBQ & Refreshments will Include: \n\nBurgers \nHot dogs\nChips\nDrinks\nFreezies\nLimited Alternative options available\n\nEvent day volunteers needed!
URL:https://silverspringscommunity.ca/event/hello-summer/
LOCATION:Silver Springs Community Center\, 5720 Silver Ridge Drive NW\, Calgary\, AB\, T3B 5E5\, Canada
ATTACH;FMTTYPE=image/png:https://silverspringscommunity.ca/wp-content/uploads/2025/01/Hello-Summer-3.png
END:VEVENT
BEGIN:VEVENT
DTSTART;TZID=America/Edmonton:20250915T090000
DTEND;TZID=America/Edmonton:20250915T140000
DTSTAMP:20260424T052813
CREATED:20250827T172317Z
LAST-MODIFIED:20250827T174814Z
UID:19902-1757926800-1757944800@silverspringscommunity.ca
SUMMARY:Chinatown Walking Tour | Mon. Sept 15
DESCRIPTION:Walking Tour of Chinatown with Lunch\nMonday September 15 \nPlease be aware that the walking part of the tour will be approx. 90 minutes and involve some hilly areas\, stairs into the Chinese Cultural Centre and stairs into the restaurant. Some sidewalks have uneven patches. \n1. Meet at Silver Springs Community Centre Lower Parking lot at 9:00 AM for carpooling. Please email: karenk@silverspringscommunity.ca if you want a ride OR you can drive and how many passengers you are able to take. Please bring cash to help cover the parking expenses.\nOR \n2. Meet at Rotary Park (Mount Pleasant Tennis Club) 1st St.NE and 4th Ave NE at 10:00  AM. \nLunch to follow. \nRegistration is through Amilia maximum 20 with a waitlist. Registration opens Thursday September 4 at 9:00 AM. \n$22.00 (this includes lunch\, GST\, tip).
URL:https://silverspringscommunity.ca/event/chinatown-walking-tour-mon-sept-15/
LOCATION:AB
ATTACH;FMTTYPE=image/png:https://silverspringscommunity.ca/wp-content/uploads/2025/08/Walking-Tour-Chinatown.png
END:VEVENT
BEGIN:VEVENT
DTSTART;TZID=America/Edmonton:20251018T090000
DTEND;TZID=America/Edmonton:20251018T120000
DTSTAMP:20260424T052813
CREATED:20250909T210634Z
LAST-MODIFIED:20250909T210634Z
UID:19951-1760778000-1760788800@silverspringscommunity.ca
SUMMARY:Maria & Tim's 4 Annual Pumpkin patch!
DESCRIPTION:Lower lot of the Silver Springs Community Centre
URL:https://silverspringscommunity.ca/event/maria-tims-4-annual-pumpkin-patch/
LOCATION:AB
ATTACH;FMTTYPE=image/jpeg:https://silverspringscommunity.ca/wp-content/uploads/2025/09/Silver-Springs-Community-Centre-SATURDAY-October-18th-900-AM-Noon-1200-x-800-px.jpg
END:VEVENT
BEGIN:VEVENT
DTSTART;TZID=America/Edmonton:20251024T183000
DTEND;TZID=America/Edmonton:20251024T203000
DTSTAMP:20260424T052813
CREATED:20250815T174827Z
LAST-MODIFIED:20250827T172345Z
UID:19886-1761330600-1761337800@silverspringscommunity.ca
SUMMARY:Jellybean Dance
DESCRIPTION:Tickets are $8 and go on sale October 2 online only. Jellybean dances are dances for grade 4\, 5 and 6 students involving a DJ\, light show\, games and door prizes. We offer a cash only concession at the dances.  \n \n  \n  \nThese dances depend on volunteers\, please consider volunteering if you can. \n \n 
URL:https://silverspringscommunity.ca/event/jellybean-dance-6/
LOCATION:AB
ATTACH;FMTTYPE=image/png:https://silverspringscommunity.ca/wp-content/uploads/2025/08/Jelly-Bean-Dances.png
END:VEVENT
BEGIN:VEVENT
DTSTART;TZID=America/Edmonton:20251028T080000
DTEND;TZID=America/Edmonton:20251028T163000
DTSTAMP:20260424T052813
CREATED:20250909T205726Z
LAST-MODIFIED:20250911T164050Z
UID:19943-1761638400-1761669000@silverspringscommunity.ca
SUMMARY:Senior's Group: William Watson Lodge
DESCRIPTION:William Watson Lodge\nTuesday October 28 | 8AM – 4:30PM \nCome join us for a day trip to William Watson Lodge! Enjoy beautiful walking trails\, playing board games and the beautiful views of lower Kananaskis Lake. The trails are paved and wheelchair accessible. Food and Drink not included. Attendees are asked to bring their own. \n$25 per person for the coach bus and lodge booking. \n\n8:00- Meet at Silver Springs Community Association\n10:00- arrive at the Lodge\n2:45 gather to depart the Lodge\n4:00-4:30- arrive back at Silver Springs Community Association\n\nRegistration opens October 6 at 9AM
URL:https://silverspringscommunity.ca/event/william-watson-lodge/
LOCATION:AB
ATTACH;FMTTYPE=image/png:https://silverspringscommunity.ca/wp-content/uploads/2025/09/William-Watson-Lodge.png
END:VEVENT
BEGIN:VEVENT
DTSTART;TZID=America/Edmonton:20251107T190000
DTEND;TZID=America/Edmonton:20251107T210000
DTSTAMP:20260424T052813
CREATED:20250909T205904Z
LAST-MODIFIED:20250924T193516Z
UID:19948-1762542000-1762549200@silverspringscommunity.ca
SUMMARY:Senior's Group: Beginner Line Dance
DESCRIPTION:Beginner Line Dance | Fri Nov 7 from 7-9pm \nJoin us for a Beginner Line Dance Class with our own instructor at the SSCA! \n\nCome prepared to dance for the 2 hours (with water breaks)\nBring your own water and CLEAN comfortable shoes\nNo experience necessary\n\n$10 per person \nRegistration opens Tue\, Oct 14 at 9AM
URL:https://silverspringscommunity.ca/event/beginner-line-dance/
LOCATION:AB
ATTACH;FMTTYPE=image/jpeg:https://silverspringscommunity.ca/wp-content/uploads/2025/09/Seniors-Line-Dance-11-x-8.5-in.jpeg
END:VEVENT
BEGIN:VEVENT
DTSTART;TZID=America/Edmonton:20251115T100000
DTEND;TZID=America/Edmonton:20251115T150000
DTSTAMP:20260424T052813
CREATED:20250709T175359Z
LAST-MODIFIED:20250909T211044Z
UID:19782-1763200800-1763218800@silverspringscommunity.ca
SUMMARY:Christmas Craft Market
DESCRIPTION:Our Craft Market is Returning This Fall! \nWe’re excited to welcome back vendors and shoppers for another amazing season.
URL:https://silverspringscommunity.ca/event/christmas-craft-market-vendor-applications/
LOCATION:AB
ATTACH;FMTTYPE=image/png:https://silverspringscommunity.ca/wp-content/uploads/2025/07/Silver-Springs-Craft-Market.png
END:VEVENT
BEGIN:VEVENT
DTSTART;TZID=America/Edmonton:20251118T190000
DTEND;TZID=America/Edmonton:20251118T210000
DTSTAMP:20260424T052813
CREATED:20251002T201906Z
LAST-MODIFIED:20251002T201906Z
UID:20036-1763492400-1763499600@silverspringscommunity.ca
SUMMARY:Frauds and Scams Awareness Presentation
DESCRIPTION:Join us in the SSCA Sunset Room for a Frauds and Scams Awareness Presentation. This is a free event.
URL:https://silverspringscommunity.ca/event/frauds-and-scams-awareness-presentation/
LOCATION:AB
ATTACH;FMTTYPE=image/png:https://silverspringscommunity.ca/wp-content/uploads/2025/10/Scam-Prevention-Night.png
END:VEVENT
BEGIN:VEVENT
DTSTART;TZID=America/Edmonton:20251206T120000
DTEND;TZID=America/Edmonton:20251206T150000
DTSTAMP:20260424T052813
CREATED:20251014T163853Z
LAST-MODIFIED:20251014T164349Z
UID:20104-1765022400-1765033200@silverspringscommunity.ca
SUMMARY:Hello Winter 2025
DESCRIPTION:Come & enjoy the holiday season here at the community center on December 6th from 12(noon) to 3pm.  \n  \nThis years event will be an outdoor event with Horse & Wagon Rides\, Tobogganing (bring your own)\, Hot Chocolate…and a visit from Santa! While this year we won’t be hosting a indoor Santa meet and greet\, Santa will make an outdoor appearance. \n  \nVolunteers needed for a variety of shifts!
URL:https://silverspringscommunity.ca/event/hello-winter-2025/
LOCATION:AB
ATTACH;FMTTYPE=image/png:https://silverspringscommunity.ca/wp-content/uploads/2025/10/Hello-Winter-2025.png
END:VEVENT
BEGIN:VEVENT
DTSTART;TZID=America/Edmonton:20251209T170000
DTEND;TZID=America/Edmonton:20251209T210000
DTSTAMP:20260424T052813
CREATED:20251030T200727Z
LAST-MODIFIED:20251118T161417Z
UID:20240-1765299600-1765314000@silverspringscommunity.ca
SUMMARY:Sold Out - Seniors Christmas Party | Tue Dec 9
DESCRIPTION:Senior’s Christmas Party | Tue Dec 9 | 5 – 9pm \nJoin us for a Catered Dinner\, Games\, Drinks\, Music & Fun! \nHappy Hour 5-6PM. Dinner served at 6PM \nCash Bar (Alcoholic and Non-Alcoholic options) \n$35 per person. SSCA Membership required. Pre-registration required. \nRegistration opens Nov 18 at 9AM \nThis event is sold out\, please add yourself to our wait list.
URL:https://silverspringscommunity.ca/event/seniors-christmas-party-tue-dec-9/
LOCATION:AB
ATTACH;FMTTYPE=image/png:https://silverspringscommunity.ca/wp-content/uploads/2025/10/Seniors-Christmas-Party-2.png
END:VEVENT
BEGIN:VEVENT
DTSTART;TZID=America/Edmonton:20260120T133000
DTEND;TZID=America/Edmonton:20260120T153000
DTSTAMP:20260424T052813
CREATED:20260109T163801Z
LAST-MODIFIED:20260109T174900Z
UID:20465-1768915800-1768923000@silverspringscommunity.ca
SUMMARY:Designing Your Tomorrow: Home\, Care & Confidence
DESCRIPTION:Designing Your Tomorrow: Home\, Care & Confidence\nTuesday\, January 20\, 1:30 PM | The SSCA Boardroom\, Silver Springs Community Centre \nJoin us for a warm\, informative event designed to help seniors and their families plan for the future. Presented by The Pinnacle Group\, you’ll learn and explore practical ways to stay comfortable and independent at home — from accessibility renovations and home elevators to multigenerational lane-way living options. With expert support from Pinnacle Group and in-home care specialists from The Key\, you’ll discover personalized solutions that bring peace of mind\, strengthen family connections and support aging well together. \nThis is a free event. Enjoy light snacks and beverages. \n\nTuesday\, January 20\n1:30 pm\nThe SSCA Boardroom\, Silver Springs Community Centre\n\n*No registration required.
URL:https://silverspringscommunity.ca/event/designing-your-tomorrow-home-care-confidence/
LOCATION:AB
ATTACH;FMTTYPE=image/jpeg:https://silverspringscommunity.ca/wp-content/uploads/2026/01/Designing-your.jpg
END:VEVENT
BEGIN:VEVENT
DTSTART;TZID=America/Edmonton:20260206T183000
DTEND;TZID=America/Edmonton:20260206T203000
DTSTAMP:20260424T052813
CREATED:20251215T182800Z
LAST-MODIFIED:20251218T213547Z
UID:20348-1770402600-1770409800@silverspringscommunity.ca
SUMMARY:Jellybean Dance
DESCRIPTION:Tickets are $8 and will go on sale January 5\, available online only. Jellybean dances are for grade 4\, 5 and 6 students and involve a DJ\, light show\, games and door prizes. We offer a cash-only concession at the dances.  \n \n  \n  \nThese dances depend on volunteers; please consider volunteering if you can. \n \n 
URL:https://silverspringscommunity.ca/event/jellybean-dance-7/
LOCATION:AB
ATTACH;FMTTYPE=image/png:https://silverspringscommunity.ca/wp-content/uploads/2025/12/FEB_26_JellybeanDance_SJ-1.png
ORGANIZER;CN="SILVER SPRINGS COMMUNITY ASSOCIATION":MAILTO:programs@silverspringscommunity.ca
END:VEVENT
BEGIN:VEVENT
DTSTART;TZID=America/Edmonton:20260210T180000
DTEND;TZID=America/Edmonton:20260210T200000
DTSTAMP:20260424T052813
CREATED:20251110T175557Z
LAST-MODIFIED:20260209T173526Z
UID:20319-1770746400-1770753600@silverspringscommunity.ca
SUMMARY:Annual General Meeting
DESCRIPTION:SSCA AGM – February 10th 2026 \n  \nMeet our board members at 6pm \nPizza\, coffee\, tea and soft drinks available \n  \nAnnual General Meeting at 7pm \nThe Annual General Meeting will be conducted in person at SSCA. Everyone is welcome to attend\, however In order to vote in the Annual General Meeting\, you require a Silver Springs Community Association 2025-2026 Membership. For more details on membership\, visit https://silverspringscommunity.ca/membership. \n  \nPre-registration is available but not required for members who wish to vote. Households that are members may register up to two people to vote at the AGM. If you wish to register two people\, please complete the form for the first participant\, and then return to the webpage and complete the form again for the second participant.  \n  \nAny Voting Member wishing to make a motion at the Annual General Meeting shall so advise the Secretary (secretary@silverspringscommunity.ca) in writing no later than twenty-one (21) days prior to the AGM. \n  \nIf you have questions about the Annual General Meeting\, please contact the SSCA at 403-288-2616 or administration@silverspringscommunity.ca \n \nDRAFT 2024 AGM Minutes\, January 9\, 2025 Draft 2025 AGM AGENDA February 10\, 2026._ \nDRAFT 2024 AGM Minutes\, January 9\, 2025 \n 
URL:https://silverspringscommunity.ca/event/annual-general-meeting/
LOCATION:SSCA Sunset Room\, 5720 Silver Ridge Drive NW\, Calgary
ATTACH;FMTTYPE=image/png:https://silverspringscommunity.ca/wp-content/uploads/2025/11/Copy-of-Facebook-Post-Silver-Springs-Community-Association.png
ORGANIZER;CN="SILVER SPRINGS COMMUNITY ASSOCIATION":MAILTO:programs@silverspringscommunity.ca
END:VEVENT
BEGIN:VEVENT
DTSTART;TZID=America/Edmonton:20260317T140000
DTEND;TZID=America/Edmonton:20260317T160000
DTSTAMP:20260424T052813
CREATED:20260302T180248Z
LAST-MODIFIED:20260309T203247Z
UID:20622-1773756000-1773763200@silverspringscommunity.ca
SUMMARY:Seniors | Old World vs. New World Wine Tasting
DESCRIPTION:Old World vs. New World Wine Tasting | Active Seniors Event \nTuesday\, March 17\, 2-4 PM | The SSCA Boardroom\, Silver Springs Community Centre \nJoin a wine tasting and individual Charcuterie Board at the Silver Springs Liquor Store on March 17 from 2 – 4 pm. It’s St. Paddy’s Day\, dress in your favourite green! \nWhere: Silver Springs Liquor Store | 8060 Silver Springs Blvd NW\, Calgary\, AB T3B 5K1\nCost: $30.00 (this includes your individual charcuterie board\, GST\, and tip). \n \n*Registration required through Amilia.
URL:https://silverspringscommunity.ca/event/old-world-vs-new-world-wine-tasting/
LOCATION:AB
ATTACH;FMTTYPE=image/png:https://silverspringscommunity.ca/wp-content/uploads/2026/03/old-worl.png
END:VEVENT
BEGIN:VEVENT
DTSTART;VALUE=DATE:20260418
DTEND;VALUE=DATE:20260419
DTSTAMP:20260424T052813
CREATED:20251125T172118Z
LAST-MODIFIED:20260204T181505Z
UID:20361-1776470400-1776556799@silverspringscommunity.ca
SUMMARY:20th Annual LEGO Building Competition
DESCRIPTION:LEGO Sponsors & Builders Needed! \nApril 18\, 2026Public Viewing 12:00–3:00 PM and is FREE to attend! \nJoin us as we celebrate 20 years of the LEGO competition in Silver Springs!Get building — we can’t wait to see what you create this year. We’ll have YYC food trucks onsite too! \nRegistration opens March 2\, 2026 \n \nLEGO Entry FeesRegular-sized build: $5Oversized build: $15Adult entry: $15 \nNo kits allowed — original LEGO creations only. \nSponsors and volunteers wanted! \n\nCompetition Categories (4 Total)Things That GoWildlifeStructuresCool Scenes \nSpecial Category20th Anniversary (open category) \nYoung BuildersOne category for ages 5 and under \nAge Groups6–8 years9–11 years12–17 yearsAdult (open category\, no specific theme)
URL:https://silverspringscommunity.ca/event/20th-annual-lego-building-competition/
LOCATION:Silver Springs Community Center\, 5720 Silver Ridge Drive NW\, Calgary\, AB\, T3B 5E5\, Canada
ATTACH;FMTTYPE=image/png:https://silverspringscommunity.ca/wp-content/uploads/2025/11/LEGO-2025.png
ORGANIZER;CN="SILVER SPRINGS COMMUNITY ASSOCIATION":MAILTO:programs@silverspringscommunity.ca
END:VEVENT
BEGIN:VEVENT
DTSTART;TZID=America/Edmonton:20260420T113000
DTEND;TZID=America/Edmonton:20260420T143000
DTSTAMP:20260424T052813
CREATED:20260324T162237Z
LAST-MODIFIED:20260324T171416Z
UID:20698-1776684600-1776695400@silverspringscommunity.ca
SUMMARY:Seniors | Spring Tea
DESCRIPTION:Senior’s Spring Tea | Monday\, April 20\, 11:30 am – 2:30 pm \nEnjoy tea and small bites to welcome spring. Bring your favourite teacup\, pull out your fancy clothes and enjoy an afternoon with friends and neighbours! \nCost is $10 per person\, registration online. \n\nBring your own water and CLEAN comfortable shoes\nNo experience necessary\n\n$10 per person \nRegistration opens April 2 at 9 am \n \n*Registration required through Amilia.
URL:https://silverspringscommunity.ca/event/seniors-spring-tea/
LOCATION:AB
ATTACH;FMTTYPE=image/png:https://silverspringscommunity.ca/wp-content/uploads/2026/03/spring-tea-1.png
END:VEVENT
BEGIN:VEVENT
DTSTART;TZID=America/Edmonton:20260424T190000
DTEND;TZID=America/Edmonton:20260424T210000
DTSTAMP:20260424T052813
CREATED:20260302T180857Z
LAST-MODIFIED:20260309T210729Z
UID:20625-1777057200-1777064400@silverspringscommunity.ca
SUMMARY:Seniors | Gentle Spring Dance
DESCRIPTION:Gentle Spring Dance | Friday\, April 24\, 7-9 pm \nPlease join us for a fun evening of Gentle Dance Fit/Line dancing. Our instructor\, Pam Wenzel\, will teach you easy-to-follow routines to a variety of energizing songs\, some oldies and some current. Dance the night away with a little Salsa\, Cha Cha\, disco and a whole lot of fun. No previous experience needed. Wear comfortable clothing and runners or dance shoes. \n\nBring your own water and CLEAN comfortable shoes\nNo experience necessary\n\n$10 per person \n \n*Registration required through Amilia.
URL:https://silverspringscommunity.ca/event/seniors-gentle-spring-dance/
LOCATION:AB
ATTACH;FMTTYPE=image/png:https://silverspringscommunity.ca/wp-content/uploads/2026/03/seniors_gentle_Dance.png
END:VEVENT
BEGIN:VEVENT
DTSTART;TZID=America/Edmonton:20260506T090000
DTEND;TZID=America/Edmonton:20260506T180000
DTSTAMP:20260424T052813
CREATED:20260324T171148Z
LAST-MODIFIED:20260324T171148Z
UID:20702-1778058000-1778090400@silverspringscommunity.ca
SUMMARY:Seniors | Rosebud Theatre - Lunch & Matinee
DESCRIPTION:“Hurry Hard” Rosebud Theatre |  Lunch & Matinee | Wed\, May 6 \nJoin us for lunch and a matinee at the Rosebud Theatre for the play “Hurry Hard” on Wednesday\, May 6. A bus will depart from the Silver Springs Community Centre in the morning to take us there and back in the afternoon. \nItinerary: \n\n9 am: load bus at SSCA\n9:15 am: depart to Rosebud\, arrive ~ 10:45 am\n11 am – 1 pm: lunch\n1:30 – 3:30 pm: “Hurry Hard”\n3:45 pm: load bus for return trip\n4 pm: depart back to Calgary\, arrive ~ 5:30\, unload by 5:45 pm\n\nCost: $70 \nRegistration opens April 9 at 9 am \n \n*Registration required through Amilia.
URL:https://silverspringscommunity.ca/event/seniors-rosebud-theatre-lunch-matinee/
LOCATION:AB
ATTACH;FMTTYPE=image/png:https://silverspringscommunity.ca/wp-content/uploads/2026/03/Screenshot-2026-03-24-105638.png
END:VEVENT
BEGIN:VEVENT
DTSTART;TZID=America/Edmonton:20260508T183000
DTEND;TZID=America/Edmonton:20260508T203000
DTSTAMP:20260424T052813
CREATED:20260405T195916Z
LAST-MODIFIED:20260421T152716Z
UID:20770-1778265000-1778272200@silverspringscommunity.ca
SUMMARY:Jellybean Dance
DESCRIPTION:Tickets are $8 and go on sale April 8 online only. Jellybean dances are dances for grade 4\, 5 and 6 students involving a DJ\, light show\, games and door prizes. We offer a cash only concession at the dances.  \n \n  \n  \nThese dances depend on volunteers\, please consider volunteering if you can. \n \n 
URL:https://silverspringscommunity.ca/event/jellybean-dance-8/
LOCATION:SSCA Sunset Room\, 5720 Silver Ridge Drive NW\, Calgary
ATTACH;FMTTYPE=image/png:https://silverspringscommunity.ca/wp-content/uploads/2026/04/ecf977d8-06da-480d-87e2-4b05d9483b95_Silver_Springs_Community_Center_Oct_25__630_pm_830_pm_Tickets_8_Online_Only_Grades_4_5_6.png
END:VEVENT
BEGIN:VEVENT
DTSTART;TZID=America/Edmonton:20260509T100000
DTEND;TZID=America/Edmonton:20260509T120000
DTSTAMP:20260424T052813
CREATED:20260331T161601Z
LAST-MODIFIED:20260402T033914Z
UID:20759-1778320800-1778328000@silverspringscommunity.ca
SUMMARY:Clean the Community - Annual Litter Clean Up
DESCRIPTION:Silver Springs Community Association is organizing a litter clean up on Saturday May 9th from 10am to 12pm. This will be a great opportunity to get to know your neighbours and to make the places we love\, litter free! Sign up with friends\, family or on your own. Pizza and refreshments will be provided to volunteers after the event.
URL:https://silverspringscommunity.ca/event/clean-the-community-annual-litter-clean-up/
LOCATION:AB
ATTACH;FMTTYPE=image/png:https://silverspringscommunity.ca/wp-content/uploads/2026/03/Social-Media-Clean-the-Community-Instagram-Post-Square.png
END:VEVENT
BEGIN:VEVENT
DTSTART;TZID=America/Edmonton:20260620T100000
DTEND;TZID=America/Edmonton:20260620T110000
DTSTAMP:20260424T052813
CREATED:20260421T152320Z
LAST-MODIFIED:20260421T152412Z
UID:20815-1781949600-1781953200@silverspringscommunity.ca
SUMMARY:Watering Can Planter Workshop
DESCRIPTION:Do you need a little pop of colour on your doorstep\, balcony or table? If so\, let’s come together to learn about and create your very own annual watering can planter! \nIn this workshop\, you will create your own masterpiece while learning more about the annual plants that thrive in these types of creations. You will also learn how to care for your plants and have your plant questions answered! \nThe cost ($45) of this workshop includes: \n\nAll supplies\nStep by step direction on how to arrange your plants in the planter\nDetails about the plants you are planting\nInformation about how to care for your planter to keep it blooming long into the season.\n\nParticipants must be 18 years of age. Registration opens on May 12th at 9am.
URL:https://silverspringscommunity.ca/event/20815/
LOCATION:Silver Springs Community Center\, 5720 Silver Ridge Drive NW\, Calgary\, AB\, T3B 5E5\, Canada
ATTACH;FMTTYPE=image/png:https://silverspringscommunity.ca/wp-content/uploads/2026/04/Green-White-Modern-Gardening-Workshop-For-Locals-Instagram-Post.png
ORGANIZER;CN="SILVER SPRINGS COMMUNITY ASSOCIATION":MAILTO:programs@silverspringscommunity.ca
END:VEVENT
END:VCALENDAR